{"text_format":"1","workbook":"xlsx","n_sheets":6,"sheets":["FS","Final points","Results","Team results","Starting order","Reserve"],"not_rendered":{"charts":0,"images":0,"macros":1,"external_links":0,"defined_names":14,"comments":0,"pivot_tables":0},"unopened":[],"bounds":{"document_bytes":16777216,"sheet_cells":100000,"rows_first":2000,"rows_last":500,"rows_between":2000,"halvings":0,"cell_chars":16384,"cell_head_chars":4096},"cells_cut":0,"cells_raw":0,"read":"whole","date_system":"1900"}

{"sheet":"FS","index":0,"n_rows":62,"n_cols":28,"rows_kept":62,"cut":false,"hidden":false,"merged":[[1,3,1,15],[6,16,12,19],[6,20,12,23],[6,24,12,27],[3,9,12,9],[3,12,12,12],[3,13,12,13],[3,4,12,4],[3,5,12,5],[3,8,12,8],[2,4,2,6],[2,8,2,10],[2,12,2,14],[3,6,12,6],[3,10,12,10],[3,14,12,14]]}
[]
[null,"OEC"]
[null,null,null,null,"Johanna Saariluoma (FI)",null,null,null,"Claudia Moser (CH)",null,null,null,"Wies Koelewijn (NL)"]
[null,"Freestyle qualifying round",null,null,"Presentation/accuracy","Content/degree of difficulty","Musical interpretation",null,"Presentation/accuracy","Content/degree of difficulty","Musical interpretation",null,"Presentation/accuracy","Content/degree of difficulty","Musical interpretation"]
[]
[]
[null,null,null,null,null,null,null,null,null,null,null,null,null,null,null,null,"Presentation/accuracy",null,null,null,"Content/degree of difficulty",null,null,null,"Musical interpretation"]
[]
[]
[]
[]
[]
[]
[null,"Handler / dog",null,"Country",null,null,null,null,null,null,null,null,null,null,null,"Total"]
[19,"Marina Novoselova / Funnewf Gloria Day",null,"Russia",9.4,9.1999999999999993,9.1999999999999993,null,8.9,9,9.4,null,9,8.5,9,{"$f":"(E15+F15+G15+I15+J15+K15+M15+N15+O15)/3","v":27.2},{"$f":"SUM(E15+I15+M15)","v":27.3},{"$f":"(Q15/30)*100","v":91},"%",{"$f":"IF(R15>74.9,\"\",\"IB\")","v":""},{"$f":"SUM(F15+J15+N15)","v":26.7},{"$f":"(U15/30)*100","v":89},"%",{"$f":"IF(V15>74.9,\"\",\"IB\")","v":""},{"$f":"SUM(G15+K15+O15)","v":27.6},{"$f":"(Y15/30)*100","v":92},"%",{"$f":"IF(Z15>74.9,\"\",\"IB\")","v":""}]
[16,"Vanda Gregorová/All That Brandy Gentle Mate",null,"Czech Republic",9.5,9.1999999999999993,8.9,null,8.4,8.8000000000000007,9.1,null,9.1,8.6999999999999993,9.1999999999999993,26.966666666666669,{"$f":"SUM(E16+I16+M16)","v":27},{"$f":"(Q16/30)*100","v":90},"%",{"$f":"IF(R16>74.9,\"\",\"IB\")","v":""},{"$f":"SUM(F16+J16+N16)","v":26.7},{"$f":"(U16/30)*100","v":89},"%",{"$f":"IF(V16>74.9,\"\",\"IB\")","v":""},{"$f":"SUM(G16+K16+O16)","v":27.2},{"$f":"(Y16/30)*100","v":90.666666666666657},"%",{"$f":"IF(Z16>74.9,\"\",\"IB\")","v":""}]
[23,"Polina Ilina / HardyHeart du Val de Vent Dore",null,"Russia",9,8.9,9.1,null,9.1999999999999993,9,9,null,8.8000000000000007,8.4,9,26.8,27,90,"%","",26.299999999999997,87.666666666666657,"%","",27.1,90.333333333333343,"%",""]
[3,"Monika Olšovská / Arsinoé z Ríše Wa",null,"Slovakia",8.6999999999999993,8.8000000000000007,8.5,null,8.9,9,9.1999999999999993,null,9,8.6999999999999993,9.1999999999999993,26.666666666666668,26.6,88.666666666666671,"%","",26.5,88.333333333333329,"%","",26.9,89.666666666666657,"%",""]
[32,"Polina Ilina / Shteffi",null,"Russia",8.6999999999999993,9.3000000000000007,9.1,null,8.4,8.6999999999999993,8.8000000000000007,null,8.5,8.1,9,26.2,25.6,85.333333333333343,"%","",26.1,87,"%","",26.9,89.666666666666657,"%",""]
[12,"Daniela Šišková/Aurora Piranha Rainy Love",null,"Czech Republic",9.3000000000000007,8.6999999999999993,7.5,null,8.3000000000000007,8.8000000000000007,9.1,null,8.9,8.6,9.1999999999999993,26.133333333333329,26.5,88.333333333333329,"%","",26.1,87,"%","",25.8,86,"%",""]
[28,"Kath Hardman / September Spice",null,"Great Britain",8,8.9,8.9,null,8.1,8.8000000000000007,8.6999999999999993,null,8.6,8,9,25.666666666666668,24.700000000000003,82.333333333333343,"%","",25.700000000000003,85.666666666666686,"%","",26.6,88.666666666666671,"%",""]
[46,"Monika Ballerini / Cassy zum Krähenhorst",null,"Switzerland",8.4,7.2,8.9,null,9.1,8.1999999999999993,9.1,null,8.5,8.6,8.6999999999999993,25.566666666666666,26,86.666666666666671,"%","",24,80,"%","",26.7,89,"%",""]
[18,"Linda de Smet / Eby of Sun Floch Valley",null,"Belgium ",8.4,8.1,8.4,null,8.5,9.1999999999999993,9,null,7.5,8.5,9,25.533333333333331,24.4,81.333333333333329,"%","",25.799999999999997,85.999999999999986,"%","",26.4,88,"%",""]
[36,"Jules O'Dwyer / Fjurdyhoeve Flynn",null,"Belgium ",8.1999999999999993,7.1,7.3,null,8.5,9.1,9.3000000000000007,null,9.1,8.6999999999999993,9.1999999999999993,25.5,25.799999999999997,85.999999999999986,"%","",24.9,83,"%","",25.8,86,"%",""]
[31,"Lucie Smolíková/A White Head Tender Flash",null,"Czech Republic",9.1999999999999993,8.5,7.7,null,8.4,8.1999999999999993,8.6,null,8.1,7.6,8.6999999999999993,25,25.700000000000003,85.666666666666686,"%","",24.299999999999997,81,"%","",25,83.333333333333343,"%",""]
[39,"Ekatarina Myznikova / Pradas House Artist and Denser",null,"Russia",7.8,7.3,7.6,null,8,8.9,9.1,null,8.1999999999999993,8.9,9,24.933333333333337,24,80,"%","",25.1,83.666666666666671,"%","",25.7,85.666666666666671,"%",""]
[9,"Yvonne Belin / Jewel del Mulino Prudenza",null,"Switzerland",7.4,8.9,7.6,null,7.8,9.4,9.3000000000000007,null,7.6,8,8.5,24.833333333333332,22.799999999999997,75.999999999999986,"%","",26.3,87.666666666666671,"%","",25.4,84.666666666666657,"%",""]
[47,"Bregtje Hut / Troy",null,"Holland",7.5,7.5,8.9,null,7,8.5,9,null,8.3000000000000007,8.8000000000000007,8.8000000000000007,24.766666666666666,{"$f":"SUM(E28+I28+M28)","v":22.8},76,"%",{"$f":"IF(R28>74.9,\"\",\"IB\")","v":""},{"$f":"SUM(F28+J28+N28)","v":24.8},82.666666666666671,"%",{"$f":"IF(V28>74.9,\"\",\"IB\")","v":""},{"$f":"SUM(G28+K28+O28)","v":26.7},89,"%",{"$f":"IF(Z28>74.9,\"\",\"IB\")","v":""}]
[37,"Emmy Simonsen / The Charmed Ones'Biscuit in Blue",null,"Denmark",8.6,7.9,7.9,null,8.5,8.4,8.5,null,7.6,8,8.8000000000000007,24.733333333333334,24.700000000000003,82.333333333333343,"%","",24.3,81,"%","",25.2,84,"%",""]
[13,"Asako Otsuka / Prince-Pepper of Dancing Tail JP","i","Japan",8.4,8.5,7.8,null,7.1,8.6999999999999993,8.3000000000000007,null,7.4,8.3000000000000007,8.6999999999999993,24.400000000000002,22.9,76.333333333333329,"%","",25.5,85,"%","",24.8,82.666666666666671,"%",""]
[2,"Nathalie Starner / Wenarjas Spirit of Ayax",null,"Sweden",7.2,8.9,8.9,null,6.2,8.5,8.5,null,7.7,8,8.5,24.133333333333336,21.1,70.333333333333343,"%","IB",25.4,84.666666666666657,"%","",25.9,86.333333333333329,"%",""]
[11,"Sini Eriksson / Mutkis Onnensoturi","i","Finland",7.1,9.1,8.1,null,5.3,9.4,9,null,7.2,8.5,8.6999999999999993,24.133333333333336,19.599999999999998,65.333333333333314,"%","IB",27,90,"%","",25.8,86,"%",""]
[22,"Emmy Simonsen / Littlethorn Feet of Flames",null,"Denmark",8.8000000000000007,7.6,7.4,null,8.4,7.6,8.3000000000000007,null,7.5,8.1,8.6,24.099999999999998,24.700000000000003,82.333333333333343,"%","",23.299999999999997,77.666666666666657,"%","",24.3,81,"%",""]
[1,"Vanda Gregorová/Anuška Vejvoda Dechristie",null,"Czech Republic",8.3000000000000007,9.1999999999999993,8.6999999999999993,null,6.9,6.7,7.3,null,7.9,8.5,8.6,24.033333333333331,23.1,77,null,"",24.4,81.333333333333329,null,"",24.6,82,null,""]
[44,"Sandra Kagevik / Hostgladjens Golden Dream",null,"Sweden",8.3000000000000007,7.8,8,null,8.4,8,7.4,null,8.1999999999999993,7.8,8.1,23.999999999999996,24.900000000000002,83,null,"",23.6,78.666666666666671,null,"",23.5,78.333333333333329,null,""]
[45,"Carina Persson / Obetes Pop",null,"Sweden",7.2,8,8.4,null,6.4,8.6,8.1999999999999993,null,7.5,8.6,9,23.966666666666669,21.1,70.333333333333343,null,"IB",25.200000000000003,84.000000000000014,null,"",25.6,85.333333333333343,null,""]
[42,"Roger Buonocore / Cookies du Domaine de Joléa","i","France",8,7.3,7.9,null,7.5,7.7,8.1,null,7.7,8.5,9,23.900000000000006,23.2,77.333333333333329,null,"",23.5,78.333333333333329,null,"",25,83.333333333333343,null,""]
[33,"Monika Ballerini / Nicolaj-Nioro v. Rotmonten ",null,"Switzerland",8.5,7.7,7.2,null,8,7.5,7.8,null,8.1,8.6,8.3000000000000007,23.900000000000002,24.6,82,null,"",23.799999999999997,79.333333333333329,null,"",23.3,77.666666666666671,null,""]
[29,"Marian Smit / Sindy",null,"Holland",8.4,6.9,7.5,null,8.6999999999999993,7.6,8.1,null,8,7.5,8.6999999999999993,23.8,25.1,83.666666666666671,null,"",22,73.333333333333329,null,"IB",24.299999999999997,81,null,""]
[43,"Lovisa Andersson / Trolla",null,"Sweden",7,7.4,7.7,null,7.4,8.4,8.6999999999999993,null,7.5,8.3000000000000007,9,23.799999999999997,21.9,73,null,"IB",24.1,80.333333333333329,null,"",25.4,84.666666666666657,null,""]
[24,"Grietje Wagenaar / Fjurdyhoeve Floyd",null,"Holland",7.3,7.7,7.8,null,7.5,8.6999999999999993,8.1,null,7.5,8.1999999999999993,8.5,23.766666666666666,22.3,74.333333333333343,null,"IB",24.599999999999998,82,null,"",24.4,81.333333333333329,null,""]
[20,"Christina Oxtoby / Legacy's Eze Ezekiel",null,"Great Britain",7.5,7.2,7.1,null,8.1999999999999993,9,8.4,null,7.5,8,8.1,23.666666666666668,23.2,77.333333333333329,null,"",24.2,80.666666666666657,null,"",23.6,78.666666666666671,null,""]
[38,"Hetty van Hassel / Detania the Wizz Kid",null,"Great Britain",7.5,7.5,7.7,null,7,8.3000000000000007,8,null,7.5,8.5,9,23.666666666666668,22,73.333333333333329,null,"IB",24.3,81,null,"",24.7,82.333333333333343,null,""]
[27,"Melanie Felix / Indian",null,"Germany",8.5,6.9,7.4,null,6.9,7.9,8.4,null,7.9,8.5,8,23.466666666666669,23.3,77.666666666666671,null,"",23.3,77.666666666666671,null,"",23.8,79.333333333333329,null,""]
[17,"Lukas Pratschker / Falco out of the Dark","i","Austria",7.9,7.2,7.5,null,7.1,8.6,8.1999999999999993,null,7.5,8,8.1,23.366666666666664,22.5,75,null,"",23.8,79.333333333333329,null,"",23.799999999999997,79.333333333333329,null,""]
[34,"Brigitte van Gestel / Joyful Life van Benvenida's Joy",null,"Holland",7,8.1999999999999993,8.5,null,5.6,7.5,7.9,null,7.5,8.5,9,23.233333333333331,20.100000000000001,67,null,"IB",24.2,80.666666666666657,null,"",25.4,84.666666666666657,null,""]
[30,"Beate Lambrecht / Lower Saxon Abracadabra",null,"Germany",7.7,7.7,7.6,null,8,7.2,8.1,null,7.8,7.3,8.1999999999999993,23.2,23.5,78.333333333333329,null,"",22.2,74,null,"IB",23.9,79.666666666666657,null,""]
[21,"Arlette Cloes / Ginger van de Duvetorre",null,"Belgium ",7.1,6.8,7.7,null,7.5,7.5,8.5,null,7.5,8,8.6999999999999993,23.099999999999998,22.1,73.666666666666671,null,"IB",22.3,74.333333333333343,null,"IB",24.9,83,null,""]
[4,"Minna Yrjana / Like a Hurricane Branwenn Brady","i","Finland",8.4,7.8,8.3000000000000007,null,7.2,5.8,7.4,null,7.6,7.8,8.5,22.933333333333334,23.200000000000003,77.333333333333343,null,"",21.4,71.333333333333329,null,"IB",24.200000000000003,80.666666666666671,null,""]
[35,"Luc Daems / Tchaka vom Terlüner Schloss",null,"Belgium ",7.9,7.2,7.8,null,5.9,7.3,6.7,null,8.1,8.3000000000000007,8.5,22.566666666666666,21.9,73,null,"IB",22.8,76,null,"",23,76.666666666666671,null,""]
[26,"Jette Haastrup / Precenta´s Addi",null,"Denmark",8.1999999999999993,7.9,8.9,null,6.9,7.2,8.6999999999999993,null,6.4,6.3,6.1,22.2,21.5,71.666666666666671,null,"IB",21.400000000000002,71.333333333333343,null,"IB",23.700000000000003,79.000000000000014,null,""]
[10,"Monika Gehrke / Nice of you to Come Bye Gigolo Jan",null,"Germany",6.5,6.5,6.7,null,6.1,8.1999999999999993,8.3000000000000007,null,7.4,8.1,8.6999999999999993,22.166666666666668,20,66.666666666666657,null,"IB",22.799999999999997,75.999999999999986,null,"",23.7,78.999999999999986,null,""]
[14,"Johanna Allanach / Kojima E-Physical Graffiti",null,"Denmark",7.5,7.8,7.7,null,7,8.4,7.7,null,6.4,6.3,7.1,21.966666666666665,20.9,69.666666666666671,null,"IB",22.5,75,null,"",22.5,75,null,""]
[25,"Lisa Joachimsky / Foxita",null,"Germany",7.4,7.1,7.3,null,6.4,6.3,7,null,7.5,7.9,8.1999999999999993,21.7,21.3,71.000000000000014,null,"IB",21.299999999999997,70.999999999999986,null,"IB",22.5,75,null,""]
[7,"Myriam Alvarez / Caveri Avergisson","i","France",7.8,6.7,7.9,null,6.9,6.5,7.7,null,6.6,6.3,7.1,21.166666666666668,21.299999999999997,70.999999999999986,null,"IB",19.5,65,null,"IB",22.700000000000003,75.666666666666671,null,""]
[6,"Alexandra Vavrová / Herbie","i","Slovakia",6.1,5.9,7.4,null,6,6.4,7.4,null,6,6.2,7,19.466666666666665,18.100000000000001,60.333333333333336,null,"IB",18.5,61.666666666666671,null,"IB",21.8,72.666666666666671,null,"IB"]
[41,"Jackie de Jong / Jackie's Indi",null,"Great Britain",5.9,5.9,6.4,null,5.5,6.4,7.5,null,6.6,6.7,7.2,19.366666666666671]
[40,"Veronika Koth / Cliff of Sunny Pleasure","i","Austria",5.9,5.8,6.2,null,5.0999999999999996,7.1,7.5,null,6.6,6.3,7.1,19.2]
[5,"Aurélie Devulder/Divine","i","France",4.5999999999999996,5.6,5.7,null,5,5.6,5.0999999999999996,null,5.5,6,6.9,16.666666666666668]
[15,"Christiane Gioanni / Eldorado Columbian Rush de Solemel","i","France",5.3,5.4,6,null,4,5.2,5,null,5.8,6,6.9,16.533333333333331]
[8,"Marianne Rensch / Mose di Villa Federici",null,"Switzerland",3.2,4.5999999999999996,5,null,4.0999999999999996,5.0999999999999996,5.7,null,5.7,6,6.7,15.366666666666667]
[48,"Minna Yrjana / Like a Hurricane Dyna Dora","i","Finland",null,null,null,null,null,null,null,null,null,null,null,{"$f":"(E62+F62+G62+I62+J62+K62+M62+N62+O62)/3","v":0}]

{"sheet":"Final points","index":1,"n_rows":21,"n_cols":17,"rows_kept":21,"cut":false,"hidden":false,"merged":[[0,0,0,15],[2,14,9,14],[2,4,9,4],[2,5,9,5],[2,6,9,6],[2,8,9,8],[2,9,9,9],[2,10,9,10],[2,12,9,12],[2,13,9,13],[1,4,1,6]]}
["OEC                                         FS Final Points"]
[null,null,null,null,"Johanna Saariluoma (FI)",null,null,null,"Claudia Moser (CH)",null,null,null,"Wies Koelewijn (NL)"]
[null,null,null,null,"Presentation/accuracy","Content/degree of difficulty","Musical interpretation",null,"Presentation/accuracy","Content/degree of difficulty","Musical interpretation",null,"Presentation/accuracy","Content/degree of difficulty","Musical interpretation"]
[]
[]
[]
[]
[]
[]
[]
[null,"Handler / dog",null,"Country"]
[1,{"$f":"FS!B15","v":"Marina Novoselova / Funnewf Gloria Day"},null,{"$f":"FS!D15","v":"Russia"},9.1,9.1,9.1999999999999993,null,8.9,8.9,9.1999999999999993,null,9,8.5,9,{"$f":"(E12+F12+G12+I12+J12+K12+M12+N12+O12)/3","v":26.966666666666665},3]
[2,{"$f":"FS!B16","v":"Vanda Gregorová/All That Brandy Gentle Mate"},null,{"$f":"FS!D16","v":"Czech Republic"},9.3000000000000007,8.5,9,null,9.3000000000000007,9.1,9.1999999999999993,null,8.9,8.6999999999999993,9.1999999999999993,27.066666666666666,7]
[3,{"$f":"FS!B17","v":"Polina Ilina / HardyHeart du Val de Vent Dore"},null,{"$f":"FS!D17","v":"Russia"},8.6999999999999993,8.6999999999999993,9,null,8.4,8.9,8.8000000000000007,null,8.6,8.3000000000000007,9,26.133333333333336,1]
[4,{"$f":"FS!B18","v":"Monika Olšovská / Arsinoé z Ríše Wa"},null,{"$f":"FS!D18","v":"Slovakia"},9,8.6999999999999993,8.9,null,9.6,9.4,9.4,null,9.1999999999999993,8.6999999999999993,9.1999999999999993,27.366666666666671,10]
[5,{"$f":"FS!B19","v":"Polina Ilina / Shteffi"},null,{"$f":"FS!D19","v":"Russia"},8.4,9,8.6999999999999993,null,8.6,8.9,9.1,null,8.5,8.3000000000000007,9,26.166666666666668,5]
[6,{"$f":"FS!B20","v":"Daniela Šišková/Aurora Piranha Rainy Love"},null,{"$f":"FS!D20","v":"Czech Republic"},9,8.6999999999999993,8.5,null,9.1,9.1,9.1999999999999993,null,8.9,8.6,9.1999999999999993,26.766666666666666,9]
[7,{"$f":"FS!B21","v":"Kath Hardman / September Spice"},null,{"$f":"FS!D21","v":"Great Britain"},8.5,9.1,9.1999999999999993,null,8.1,8.9,8.5,null,8.5,8.1,9,25.966666666666665,6]
[8,{"$f":"FS!B22","v":"Monika Ballerini / Cassy zum Krähenhorst"},null,{"$f":"FS!D22","v":"Switzerland"},8.6999999999999993,7,8.4,null,8.8000000000000007,8.4,8.9,null,8.5,8.6,8.6999999999999993,25.333333333333332,8]
[9,{"$f":"FS!B23","v":"Linda de Smet / Eby of Sun Floch Valley"},null,{"$f":"FS!D23","v":"Belgium "},8.5,8,8.1999999999999993,null,8.1,9,8.8000000000000007,null,7.9,8.6,9,25.366666666666664,4]
[10,{"$f":"FS!B24","v":"Jules O'Dwyer / Fjurdyhoeve Flynn"},null,{"$f":"FS!D24","v":"Belgium "},8.8000000000000007,7.2,8.4,null,8.9,9.1,9.1999999999999993,null,9.1,8.6999999999999993,9.1999999999999993,26.2,2]

{"sheet":"Results","index":2,"n_rows":60,"n_cols":14,"rows_kept":60,"cut":false,"hidden":false,"merged":[[10,8,10,11],[3,8,4,12],[6,8,6,12],[0,1,0,5],[4,2,4,6],[6,2,6,6],[8,2,8,6],[2,3,2,6],[4,0,4,1]]}
[null,"FS Results"]
[]
[]
[]
["Judge 1",null,"Johanna Saariluoma (FI)"]
[]
["Judge 2",null,"Claudia Moser (CH)"]
[]
["Judge 3",null,"Wies Koelewijn (NL)"]
[]
[null,null,null,null,null,null,null,null,"Final points"]
[null,"Country","Handler/dog",1,2,3,"Points",null,1,2,3,"Points","Total Result"]
[1,{"$f":"FS!D15","v":"Russia"},{"$f":"FS!B15","v":"Marina Novoselova / Funnewf Gloria Day"},{"$f":"(FS!E15+FS!F15+FS!G15)","v":27.8},{"$f":"(FS!I15+FS!J15+FS!K15)","v":27.299999999999997},{"$f":"(FS!M15+FS!N15+FS!O15)","v":26.5},{"$f":"(D13+E13+F13)/3","v":27.2},null,{"$f":"('Final points'!E12+'Final points'!F12+'Final points'!G12)","v":27.4},{"$f":"('Final points'!I12+'Final points'!J12+'Final points'!K12)","v":27},{"$f":"('Final points'!M12+'Final points'!N12+'Final points'!O12)","v":26.5},{"$f":"(I13+J13+K13)/3","v":26.966666666666669},{"$f":"(G13+L13)","v":54.166666666666671},1]
[2,{"$f":"FS!D16","v":"Czech Republic"},{"$f":"FS!B16","v":"Vanda Gregorová/All That Brandy Gentle Mate"},{"$f":"(FS!E16+FS!F16+FS!G16)","v":27.6},{"$f":"(FS!I16+FS!J16+FS!K16)","v":26.300000000000004},{"$f":"(FS!M16+FS!N16+FS!O16)","v":26.999999999999996},{"$f":"(D14+E14+F14)/3","v":26.966666666666669},null,{"$f":"('Final points'!E13+'Final points'!F13+'Final points'!G13)","v":26.8},{"$f":"('Final points'!I13+'Final points'!J13+'Final points'!K13)","v":27.599999999999998},{"$f":"('Final points'!M13+'Final points'!N13+'Final points'!O13)","v":26.8},{"$f":"(I14+J14+K14)/3","v":27.066666666666666},{"$f":"(G14+L14)","v":54.033333333333331},2]
[3,{"$f":"FS!D17","v":"Russia"},{"$f":"FS!B17","v":"Polina Ilina / HardyHeart du Val de Vent Dore"},{"$f":"(FS!E17+FS!F17+FS!G17)","v":27},{"$f":"(FS!I17+FS!J17+FS!K17)","v":27.2},{"$f":"(FS!M17+FS!N17+FS!O17)","v":26.200000000000003},{"$f":"(D15+E15+F15)/3","v":26.8},null,{"$f":"('Final points'!E14+'Final points'!F14+'Final points'!G14)","v":26.4},{"$f":"('Final points'!I14+'Final points'!J14+'Final points'!K14)","v":26.1},{"$f":"('Final points'!M14+'Final points'!N14+'Final points'!O14)","v":25.9},26.133333333333336,52.933333333333337,4]
[4,{"$f":"FS!D18","v":"Slovakia"},{"$f":"FS!B18","v":"Monika Olšovská / Arsinoé z Ríše Wa"},{"$f":"(FS!E18+FS!F18+FS!G18)","v":26},{"$f":"(FS!I18+FS!J18+FS!K18)","v":27.099999999999998},{"$f":"(FS!M18+FS!N18+FS!O18)","v":26.9},{"$f":"(D16+E16+F16)/3","v":26.666666666666668},null,{"$f":"('Final points'!E15+'Final points'!F15+'Final points'!G15)","v":26.6},{"$f":"('Final points'!I15+'Final points'!J15+'Final points'!K15)","v":28.4},{"$f":"('Final points'!M15+'Final points'!N15+'Final points'!O15)","v":27.099999999999998},27.366666666666664,54.033333333333331,2]
[5,{"$f":"FS!D19","v":"Russia"},{"$f":"FS!B19","v":"Polina Ilina / Shteffi"},{"$f":"(FS!E19+FS!F19+FS!G19)","v":27.1},{"$f":"(FS!I19+FS!J19+FS!K19)","v":25.900000000000002},{"$f":"(FS!M19+FS!N19+FS!O19)","v":25.6},26.2,null,{"$f":"('Final points'!E16+'Final points'!F16+'Final points'!G16)","v":26.099999999999998},{"$f":"('Final points'!I16+'Final points'!J16+'Final points'!K16)","v":26.6},{"$f":"('Final points'!M16+'Final points'!N16+'Final points'!O16)","v":25.8},26.166666666666668,52.366666666666667,6]
[6,{"$f":"FS!D20","v":"Czech Republic"},{"$f":"FS!B20","v":"Daniela Šišková/Aurora Piranha Rainy Love"},{"$f":"(FS!E20+FS!F20+FS!G20)","v":25.5},{"$f":"(FS!I20+FS!J20+FS!K20)","v":26.200000000000003},{"$f":"(FS!M20+FS!N20+FS!O20)","v":26.7},26.133333333333336,null,{"$f":"('Final points'!E17+'Final points'!F17+'Final points'!G17)","v":26.2},{"$f":"('Final points'!I17+'Final points'!J17+'Final points'!K17)","v":27.4},{"$f":"('Final points'!M17+'Final points'!N17+'Final points'!O17)","v":26.7},26.766666666666666,52.900000000000006,5]
[7,{"$f":"FS!D21","v":"Great Britain"},{"$f":"FS!B21","v":"Kath Hardman / September Spice"},{"$f":"(FS!E21+FS!F21+FS!G21)","v":25.799999999999997},{"$f":"(FS!I21+FS!J21+FS!K21)","v":25.599999999999998},{"$f":"(FS!M21+FS!N21+FS!O21)","v":25.6},25.666666666666668,null,{"$f":"('Final points'!E18+'Final points'!F18+'Final points'!G18)","v":26.8},{"$f":"('Final points'!I18+'Final points'!J18+'Final points'!K18)","v":25.5},{"$f":"('Final points'!M18+'Final points'!N18+'Final points'!O18)","v":25.6},25.966666666666669,51.63333333333334,8]
[8,{"$f":"FS!D22","v":"Switzerland"},{"$f":"FS!B22","v":"Monika Ballerini / Cassy zum Krähenhorst"},{"$f":"(FS!E22+FS!F22+FS!G22)","v":24.5},{"$f":"(FS!I22+FS!J22+FS!K22)","v":26.4},{"$f":"(FS!M22+FS!N22+FS!O22)","v":25.8},25.566666666666666,null,{"$f":"('Final points'!E19+'Final points'!F19+'Final points'!G19)","v":24.1},{"$f":"('Final points'!I19+'Final points'!J19+'Final points'!K19)","v":26.1},{"$f":"('Final points'!M19+'Final points'!N19+'Final points'!O19)","v":25.8},25.333333333333332,50.9,9]
[9,{"$f":"FS!D23","v":"Belgium "},{"$f":"FS!B23","v":"Linda de Smet / Eby of Sun Floch Valley"},{"$f":"(FS!E23+FS!F23+FS!G23)","v":24.9},{"$f":"(FS!I23+FS!J23+FS!K23)","v":26.7},{"$f":"(FS!M23+FS!N23+FS!O23)","v":25},25.533333333333331,null,{"$f":"('Final points'!E20+'Final points'!F20+'Final points'!G20)","v":24.7},{"$f":"('Final points'!I20+'Final points'!J20+'Final points'!K20)","v":25.900000000000002},{"$f":"('Final points'!M20+'Final points'!N20+'Final points'!O20)","v":25.5},25.366666666666664,50.899999999999991,9]
[10,{"$f":"FS!D24","v":"Belgium "},{"$f":"FS!B24","v":"Jules O'Dwyer / Fjurdyhoeve Flynn"},{"$f":"(FS!E24+FS!F24+FS!G24)","v":22.599999999999998},{"$f":"(FS!I24+FS!J24+FS!K24)","v":26.900000000000002},{"$f":"(FS!M24+FS!N24+FS!O24)","v":26.999999999999996},25.5,null,{"$f":"('Final points'!E21+'Final points'!F21+'Final points'!G21)","v":24.4},{"$f":"('Final points'!I21+'Final points'!J21+'Final points'!K21)","v":27.2},{"$f":"('Final points'!M21+'Final points'!N21+'Final points'!O21)","v":26.999999999999996},26.2,51.7,7]
[11,{"$f":"FS!D25","v":"Czech Republic"},{"$f":"FS!B25","v":"Lucie Smolíková/A White Head Tender Flash"},{"$f":"(FS!E25+FS!F25+FS!G25)","v":25.4},{"$f":"(FS!I25+FS!J25+FS!K25)","v":25.200000000000003},{"$f":"(FS!M25+FS!N25+FS!O25)","v":24.4},25]
[12,{"$f":"FS!D26","v":"Russia"},{"$f":"FS!B26","v":"Ekatarina Myznikova / Pradas House Artist and Denser"},{"$f":"(FS!E26+FS!F26+FS!G26)","v":22.7},{"$f":"(FS!I26+FS!J26+FS!K26)","v":26},{"$f":"(FS!M26+FS!N26+FS!O26)","v":26.1},24.933333333333337]
[13,{"$f":"FS!D27","v":"Switzerland"},{"$f":"FS!B27","v":"Yvonne Belin / Jewel del Mulino Prudenza"},{"$f":"(FS!E27+FS!F27+FS!G27)","v":23.9},{"$f":"(FS!I27+FS!J27+FS!K27)","v":26.5},{"$f":"(FS!M27+FS!N27+FS!O27)","v":24.1},24.833333333333332]
[14,{"$f":"FS!D28","v":"Holland"},{"$f":"FS!B28","v":"Bregtje Hut / Troy"},{"$f":"(FS!E28+FS!F28+FS!G28)","v":23.9},{"$f":"(FS!I28+FS!J28+FS!K28)","v":24.5},{"$f":"(FS!M28+FS!N28+FS!O28)","v":25.900000000000002},24.766666666666666]
[15,{"$f":"FS!D29","v":"Denmark"},{"$f":"FS!B29","v":"Emmy Simonsen / The Charmed Ones'Biscuit in Blue"},{"$f":"(FS!E29+FS!F29+FS!G29)","v":24.4},{"$f":"(FS!I29+FS!J29+FS!K29)","v":25.4},{"$f":"(FS!M29+FS!N29+FS!O29)","v":24.4},24.733333333333331]
[16,{"$f":"FS!D30","v":"Japan"},{"$f":"FS!B30","v":"Asako Otsuka / Prince-Pepper of Dancing Tail JP"},{"$f":"(FS!E30+FS!F30+FS!G30)","v":24.7},{"$f":"(FS!I30+FS!J30+FS!K30)","v":24.1},{"$f":"(FS!M30+FS!N30+FS!O30)","v":24.4},24.399999999999995]
[17,{"$f":"FS!D31","v":"Sweden"},{"$f":"FS!B31","v":"Nathalie Starner / Wenarjas Spirit of Ayax"},{"$f":"(FS!E31+FS!F31+FS!G31)","v":25},{"$f":"(FS!I31+FS!J31+FS!K31)","v":23.2},{"$f":"(FS!M31+FS!N31+FS!O31)","v":24.2},24.133333333333336]
[18,{"$f":"FS!D32","v":"Finland"},{"$f":"FS!B32","v":"Sini Eriksson / Mutkis Onnensoturi"},{"$f":"(FS!E32+FS!F32+FS!G32)","v":24.299999999999997},{"$f":"(FS!I32+FS!J32+FS!K32)","v":23.7},{"$f":"(FS!M32+FS!N32+FS!O32)","v":24.4},24.133333333333336]
[19,{"$f":"FS!D33","v":"Denmark"},{"$f":"FS!B33","v":"Emmy Simonsen / Littlethorn Feet of Flames"},{"$f":"(FS!E33+FS!F33+FS!G33)","v":23.799999999999997},{"$f":"(FS!I33+FS!J33+FS!K33)","v":24.3},{"$f":"(FS!M33+FS!N33+FS!O33)","v":24.2},24.099999999999998]
[20,{"$f":"FS!D34","v":"Czech Republic"},{"$f":"FS!B34","v":"Vanda Gregorová/Anuška Vejvoda Dechristie"},{"$f":"(FS!E34+FS!F34+FS!G34)","v":26.2},{"$f":"(FS!I34+FS!J34+FS!K34)","v":20.900000000000002},{"$f":"(FS!M34+FS!N34+FS!O34)","v":25},{"$f":"(D32+E32+F32)/3","v":24.033333333333331}]
[21,{"$f":"FS!D35","v":"Sweden"},{"$f":"FS!B35","v":"Sandra Kagevik / Hostgladjens Golden Dream"},{"$f":"(FS!E35+FS!F35+FS!G35)","v":24.1},{"$f":"(FS!I35+FS!J35+FS!K35)","v":23.799999999999997},{"$f":"(FS!M35+FS!N35+FS!O35)","v":24.1},{"$f":"(D33+E33+F33)/3","v":24}]
[22,{"$f":"FS!D36","v":"Sweden"},{"$f":"FS!B36","v":"Carina Persson / Obetes Pop"},{"$f":"(FS!E36+FS!F36+FS!G36)","v":23.6},{"$f":"(FS!I36+FS!J36+FS!K36)","v":23.2},{"$f":"(FS!M36+FS!N36+FS!O36)","v":25.1},23.966666666666669]
[23,{"$f":"FS!D37","v":"France"},{"$f":"FS!B37","v":"Roger Buonocore / Cookies du Domaine de Joléa"},{"$f":"(FS!E37+FS!F37+FS!G37)","v":23.200000000000003},{"$f":"(FS!I37+FS!J37+FS!K37)","v":23.299999999999997},{"$f":"(FS!M37+FS!N37+FS!O37)","v":25.2},23.900000000000002]
[24,{"$f":"FS!D38","v":"Switzerland"},{"$f":"FS!B38","v":"Monika Ballerini / Nicolaj-Nioro v. Rotmonten "},{"$f":"(FS!E38+FS!F38+FS!G38)","v":23.4},{"$f":"(FS!I38+FS!J38+FS!K38)","v":23.3},{"$f":"(FS!M38+FS!N38+FS!O38)","v":25},23.900000000000002]
[25,{"$f":"FS!D39","v":"Holland"},{"$f":"FS!B39","v":"Marian Smit / Sindy"},{"$f":"(FS!E39+FS!F39+FS!G39)","v":22.8},{"$f":"(FS!I39+FS!J39+FS!K39)","v":24.4},{"$f":"(FS!M39+FS!N39+FS!O39)","v":24.2},23.8]
[26,{"$f":"FS!D40","v":"Sweden"},{"$f":"FS!B40","v":"Lovisa Andersson / Trolla"},{"$f":"(FS!E40+FS!F40+FS!G40)","v":22.1},{"$f":"(FS!I40+FS!J40+FS!K40)","v":24.5},{"$f":"(FS!M40+FS!N40+FS!O40)","v":24.8},23.8]
[27,{"$f":"FS!D41","v":"Holland"},{"$f":"FS!B41","v":"Grietje Wagenaar / Fjurdyhoeve Floyd"},{"$f":"(FS!E41+FS!F41+FS!G41)","v":22.8},{"$f":"(FS!I41+FS!J41+FS!K41)","v":24.299999999999997},{"$f":"(FS!M41+FS!N41+FS!O41)","v":24.2},23.766666666666666]
[28,{"$f":"FS!D42","v":"Great Britain"},{"$f":"FS!B42","v":"Christina Oxtoby / Legacy's Eze Ezekiel"},{"$f":"(FS!E42+FS!F42+FS!G42)","v":21.799999999999997},{"$f":"(FS!I42+FS!J42+FS!K42)","v":25.6},{"$f":"(FS!M42+FS!N42+FS!O42)","v":23.6},23.666666666666668]
[29,{"$f":"FS!D43","v":"Great Britain"},{"$f":"FS!B43","v":"Hetty van Hassel / Detania the Wizz Kid"},{"$f":"(FS!E43+FS!F43+FS!G43)","v":22.7},{"$f":"(FS!I43+FS!J43+FS!K43)","v":23.3},{"$f":"(FS!M43+FS!N43+FS!O43)","v":25},23.666666666666668]
[30,{"$f":"FS!D44","v":"Germany"},{"$f":"FS!B44","v":"Melanie Felix / Indian"},{"$f":"(FS!E44+FS!F44+FS!G44)","v":22.8},{"$f":"(FS!I44+FS!J44+FS!K44)","v":23.200000000000003},{"$f":"(FS!M44+FS!N44+FS!O44)","v":24.4},23.466666666666669]
[31,{"$f":"FS!D45","v":"Austria"},{"$f":"FS!B45","v":"Lukas Pratschker / Falco out of the Dark"},{"$f":"(FS!E45+FS!F45+FS!G45)","v":22.6},{"$f":"(FS!I45+FS!J45+FS!K45)","v":23.9},{"$f":"(FS!M45+FS!N45+FS!O45)","v":23.6},23.366666666666664]
[32,{"$f":"FS!D46","v":"Holland"},{"$f":"FS!B46","v":"Brigitte van Gestel / Joyful Life van Benvenida's Joy"},{"$f":"(FS!E46+FS!F46+FS!G46)","v":23.7},{"$f":"(FS!I46+FS!J46+FS!K46)","v":21},{"$f":"(FS!M46+FS!N46+FS!O46)","v":25},23.233333333333334]
[33,{"$f":"FS!D47","v":"Germany"},{"$f":"FS!B47","v":"Beate Lambrecht / Lower Saxon Abracadabra"},{"$f":"(FS!E47+FS!F47+FS!G47)","v":23},{"$f":"(FS!I47+FS!J47+FS!K47)","v":23.299999999999997},{"$f":"(FS!M47+FS!N47+FS!O47)","v":23.299999999999997},23.2]
[34,{"$f":"FS!D48","v":"Belgium "},{"$f":"FS!B48","v":"Arlette Cloes / Ginger van de Duvetorre"},{"$f":"(FS!E48+FS!F48+FS!G48)","v":21.599999999999998},{"$f":"(FS!I48+FS!J48+FS!K48)","v":23.5},{"$f":"(FS!M48+FS!N48+FS!O48)","v":24.2},23.099999999999998]
[35,{"$f":"FS!D49","v":"Finland"},{"$f":"FS!B49","v":"Minna Yrjana / Like a Hurricane Branwenn Brady"},{"$f":"(FS!E49+FS!F49+FS!G49)","v":24.5},{"$f":"(FS!I49+FS!J49+FS!K49)","v":20.399999999999999},{"$f":"(FS!M49+FS!N49+FS!O49)","v":23.9},22.933333333333334]
[36,{"$f":"FS!D50","v":"Belgium "},{"$f":"FS!B50","v":"Luc Daems / Tchaka vom Terlüner Schloss"},{"$f":"(FS!E50+FS!F50+FS!G50)","v":22.900000000000002},{"$f":"(FS!I50+FS!J50+FS!K50)","v":19.899999999999999},{"$f":"(FS!M50+FS!N50+FS!O50)","v":24.9},22.566666666666663]
[37,{"$f":"FS!D51","v":"Denmark"},{"$f":"FS!B51","v":"Jette Haastrup / Precenta´s Addi"},{"$f":"(FS!E51+FS!F51+FS!G51)","v":25},{"$f":"(FS!I51+FS!J51+FS!K51)","v":22.8},{"$f":"(FS!M51+FS!N51+FS!O51)","v":18.799999999999997},22.2]
[38,{"$f":"FS!D52","v":"Germany"},{"$f":"FS!B52","v":"Monika Gehrke / Nice of you to Come Bye Gigolo Jan"},{"$f":"(FS!E52+FS!F52+FS!G52)","v":19.7},{"$f":"(FS!I52+FS!J52+FS!K52)","v":22.6},{"$f":"(FS!M52+FS!N52+FS!O52)","v":24.2},22.166666666666668]
[39,{"$f":"FS!D53","v":"Denmark"},{"$f":"FS!B53","v":"Johanna Allanach / Kojima E-Physical Graffiti"},{"$f":"(FS!E53+FS!F53+FS!G53)","v":23},{"$f":"(FS!I53+FS!J53+FS!K53)","v":23.1},{"$f":"(FS!M53+FS!N53+FS!O53)","v":19.799999999999997},21.966666666666669]
[40,{"$f":"FS!D54","v":"Germany"},{"$f":"FS!B54","v":"Lisa Joachimsky / Foxita"},{"$f":"(FS!E54+FS!F54+FS!G54)","v":21.8},{"$f":"(FS!I54+FS!J54+FS!K54)","v":19.7},{"$f":"(FS!M54+FS!N54+FS!O54)","v":23.6},21.7]
[42,{"$f":"FS!D55","v":"France"},{"$f":"FS!B55","v":"Myriam Alvarez / Caveri Avergisson"},{"$f":"(FS!E55+FS!F55+FS!G55)","v":22.4},{"$f":"(FS!I55+FS!J55+FS!K55)","v":21.1},{"$f":"(FS!M55+FS!N55+FS!O55)","v":20},21.166666666666668]
[43,{"$f":"FS!D56","v":"Slovakia"},{"$f":"FS!B56","v":"Alexandra Vavrová / Herbie"},{"$f":"(FS!E56+FS!F56+FS!G56)","v":19.399999999999999},{"$f":"(FS!I56+FS!J56+FS!K56)","v":19.8},{"$f":"(FS!M56+FS!N56+FS!O56)","v":19.2},19.466666666666669]
[44,{"$f":"FS!D57","v":"Great Britain"},{"$f":"FS!B57","v":"Jackie de Jong / Jackie's Indi"},{"$f":"(FS!E57+FS!F57+FS!G57)","v":18.200000000000003},{"$f":"(FS!I57+FS!J57+FS!K57)","v":19.399999999999999},{"$f":"(FS!M57+FS!N57+FS!O57)","v":20.5},19.366666666666667]
[45,{"$f":"FS!D58","v":"Austria"},{"$f":"FS!B58","v":"Veronika Koth / Cliff of Sunny Pleasure"},{"$f":"(FS!E58+FS!F58+FS!G58)","v":17.899999999999999},{"$f":"(FS!I58+FS!J58+FS!K58)","v":19.7},{"$f":"(FS!M58+FS!N58+FS!O58)","v":20},19.2]
[46,{"$f":"FS!D59","v":"France"},{"$f":"FS!B59","v":"Aurélie Devulder/Divine"},{"$f":"(FS!E59+FS!F59+FS!G59)","v":15.899999999999999},{"$f":"(FS!I59+FS!J59+FS!K59)","v":15.7},{"$f":"(FS!M59+FS!N59+FS!O59)","v":18.399999999999999},16.666666666666668]
[47,{"$f":"FS!D60","v":"France"},{"$f":"FS!B60","v":"Christiane Gioanni / Eldorado Columbian Rush de Solemel"},{"$f":"(FS!E60+FS!F60+FS!G60)","v":16.7},{"$f":"(FS!I60+FS!J60+FS!K60)","v":14.2},{"$f":"(FS!M60+FS!N60+FS!O60)","v":18.700000000000003},16.533333333333335]
[48,{"$f":"FS!D61","v":"Switzerland"},{"$f":"FS!B61","v":"Marianne Rensch / Mose di Villa Federici"},{"$f":"(FS!E61+FS!F61+FS!G61)","v":12.8},{"$f":"(FS!I61+FS!J61+FS!K61)","v":14.899999999999999},{"$f":"(FS!M61+FS!N61+FS!O61)","v":18.399999999999999},15.366666666666665]
[49,{"$f":"FS!D62","v":"Finland"},{"$f":"FS!B62","v":"Minna Yrjana / Like a Hurricane Dyna Dora"},{"$f":"(FS!E62+FS!F62+FS!G62)","v":0},{"$f":"(FS!I62+FS!J62+FS!K62)","v":0},{"$f":"(FS!M62+FS!N62+FS!O62)","v":0},0]

{"sheet":"Team results","index":3,"n_rows":45,"n_cols":5,"rows_kept":45,"cut":false,"hidden":false,"merged":[[0,0,0,4]]}
["FS              OEC Team Results"]
["Country","Handler/dog","Points","Total points","Place"]
["Belgium ","Jules O'Dwyer / Fjurdyhoeve Flynn",25.5,{"$f":"LARGE(C3:C6,1)+LARGE(C3:C6,2)+LARGE(C3:C6,3)","v":74.13}]
["Belgium ","Linda de Smet / Eby of Sun Floch Valley",25.53,{"$f":"LARGE(C3:C6,1)+LARGE(C3:C6,2)+LARGE(C3:C6,3)","v":74.13},4]
["Belgium ","Arlette Cloes / Ginger van de Duvetorre",23.1,{"$f":"LARGE(C3:C6,1)+LARGE(C3:C6,2)+LARGE(C3:C6,3)","v":74.13}]
["Belgium ","Luc Daems / Tchaka vom Terlüner Schloss",22.57,{"$f":"LARGE(C3:C6,1)+LARGE(C3:C6,2)+LARGE(C3:C6,3)","v":74.13}]
["Denmark","Johanna Allanach / Kojima E-Physical Graffiti",21.97,{"$f":"LARGE(C7:C10,1)+LARGE(C7:C10,2)+LARGE(C7:C10,3)","v":71.03}]
["Denmark","Emmy Simonsen / The Charmed Ones'Biscuit in Blue",24.73,{"$f":"LARGE(C7:C10,1)+LARGE(C7:C10,2)+LARGE(C7:C10,3)","v":71.03},8]
["Denmark","Emmy Simonsen / Littlethorn Feet of Flames",24.1,{"$f":"LARGE(C7:C10,1)+LARGE(C7:C10,2)+LARGE(C7:C10,3)","v":71.03}]
["Denmark","Jette Haastrup / Precenta´s Addi",22.2,{"$f":"LARGE(C7:C10,1)+LARGE(C7:C10,2)+LARGE(C7:C10,3)","v":71.03}]
["Czech Republic","Vanda Gregorová/All That Brandy Gentle Mate",26.97]
["Czech Republic","Vanda Gregorová/Anuška Vejvoda Dechristie",24.03,{"$f":"LARGE(C11:C14,1)+LARGE(C11:C14,2)+LARGE(C11:C14,3)","v":78.099999999999994},2]
["Czech Republic","Daniela Šišková/Aurora Piranha Rainy Love",26.13]
["Czech Republic","Lucie Smolíková/A White Head Tender Flash",25]
["Germany","Monika Gehrke / Nice of you to Come Bye Gigolo Jan",22.17,{"$f":"LARGE(C15:C18,1)+LARGE(C15:C18,2)+LARGE(C15:C18,3)","v":68.84}]
["Germany","Lisa Joachimsky / Foxita",21.7,{"$f":"LARGE(C15:C18,1)+LARGE(C15:C18,2)+LARGE(C15:C18,3)","v":68.84},9]
["Germany","Beate Lambrecht / Lower Saxon Abracadabra",23.2,{"$f":"LARGE(C15:C18,1)+LARGE(C15:C18,2)+LARGE(C15:C18,3)","v":68.84}]
["Germany","Melanie Felix / Indian",23.47,{"$f":"LARGE(C15:C18,1)+LARGE(C15:C18,2)+LARGE(C15:C18,3)","v":68.84}]
["Great Britain","Kath Hardman / September Spice",25.67,{"$f":"LARGE(C19:C22,1)+LARGE(C19:C22,2)+LARGE(C19:C22,3)","v":73.010000000000005}]
["Great Britain","Jackie de Jong / Jackie's Indi",19.37,{"$f":"LARGE(C19:C22,1)+LARGE(C19:C22,2)+LARGE(C19:C22,3)","v":73.010000000000005},5]
["Great Britain","Chrisina Oxtoby / Legacy's Eze Ezekiel",23.67,{"$f":"LARGE(C19:C22,1)+LARGE(C19:C22,2)+LARGE(C19:C22,3)","v":73.010000000000005}]
["Great Britain","Hetty van Hassel / Detania the Wizz Kid",23.67,{"$f":"LARGE(C19:C22,1)+LARGE(C19:C22,2)+LARGE(C19:C22,3)","v":73.010000000000005}]
["Holland","Grietje Wagenaar / Fjurdyhoeve Floyd",23.77,{"$f":"LARGE(C23:C26,1)+LARGE(C23:C26,2)+LARGE(C23:C26,3)","v":72.34}]
["Holland","Brigitte van Gestel / Joyful Life van Benvenida's Joy",23.23,{"$f":"LARGE(C23:C26,1)+LARGE(C23:C26,2)+LARGE(C23:C26,3)","v":72.34},6]
["Holland","Bregtje Hut / Troy",24.77,{"$f":"LARGE(C23:C26,1)+LARGE(C23:C26,2)+LARGE(C23:C26,3)","v":72.34}]
["Holland","Marian Smit / Sindy",23.8,{"$f":"LARGE(C23:C26,1)+LARGE(C23:C26,2)+LARGE(C23:C26,3)","v":72.34}]
["Russia","Ekatarina Myznikova / Pradas House Artist and Denser",24.93,{"$f":"LARGE(C27:C30,1)+LARGE(C27:C30,2)+LARGE(C27:C30,3)","v":80.2}]
["Russia","Marina Novoselova / Funnewf Gloria Day",27.2,{"$f":"LARGE(C27:C30,1)+LARGE(C27:C30,2)+LARGE(C27:C30,3)","v":80.2},1]
["Russia","Polina Ilina / Shteffi",26.2,{"$f":"LARGE(C27:C30,1)+LARGE(C27:C30,2)+LARGE(C27:C30,3)","v":80.2}]
["Russia","Polina Ilina / HardyHeart du Val de Vent Dore",26.8,{"$f":"LARGE(C27:C30,1)+LARGE(C27:C30,2)+LARGE(C27:C30,3)","v":80.2}]
["Sweden","Sandra Kagevik / Hostgladjens Golden Dream",24]
["Sweden","Carina Persson / Obetes Pop",23.97,{"$f":"LARGE(C31:C34,1)+LARGE(C31:C34,2)+LARGE(C31:C34,3)","v":72.099999999999994},7]
["Sweden","Nathalie Starner / Wenarjas Spirit of Ayax",24.13,{"$f":"LARGE(C31:C33,1)+LARGE(C31:C33,2)+LARGE(C31:C33,3)","v":72.099999999999994}]
["Sweden","Lovisa Andersson / Trolla",23.8]
["Switzerland","Yvonne Belin / Jewel del Mulino Prudenza",24.83,{"$f":"LARGE(C35:C38,1)+LARGE(C35:C38,2)+LARGE(C35:C38,3)","v":74.3}]
["Switzerland","Monika Ballerini / Nicolaj-Nioro v. Rotmonten ",23.9,{"$f":"LARGE(C35:C38,1)+LARGE(C35:C38,2)+LARGE(C35:C38,3)","v":74.3},3]
["Switzerland","Monika Ballerini / Cassy zum Krähenhorst",25.57,{"$f":"LARGE(C35:C38,1)+LARGE(C35:C38,2)+LARGE(C35:C38,3)","v":74.3}]
["Switzerland","Marianne Rensch / Mose di Villa Federici",15.37,{"$f":"LARGE(C35:C38,1)+LARGE(C35:C38,2)+LARGE(C35:C38,3)","v":74.3}]
[]
[]
[]
[]
[]
[]
[null,null,null,null,"SwitzB"]

{"sheet":"Starting order","index":4,"n_rows":47,"n_cols":5,"rows_kept":47,"cut":false,"hidden":false,"merged":[]}
[]
["Handler / dog",null,"Country","start ","Music"]
[null,null,null,1]
[null,null,null,2]
[null,null,null,3]
[null,null,null,4]
[null,null,null,5]
[null,null,null,6]
[null,null,null,7]
[null,null,null,8]
[null,null,null,9]
[null,null,null,10]
[null,null,null,11]
[null,null,null,12]
[null,null,null,13]
[null,null,null,14]
[null,null,null,15]
[null,null,null,16]
[null,null,null,17]
[null,null,null,18]
[null,null,null,19]
[null,null,null,20]
[null,null,null,21]
[null,null,null,22]
[null,null,null,23]
[null,null,null,24]
[null,null,null,25]
[null,null,null,26]
[null,null,null,27]
[null,null,null,28]
[null,null,null,29]
[null,null,null,30]
[null,null,null,31]
[null,null,null,32]
[null,null,null,33]
[null,null,null,34]
[null,null,null,35]
[null,null,null,36]
[null,null,null,37]
[null,null,null,38]
[null,null,null,39]
[null,null,null,40]
[null,null,null,41]
[null,null,null,42]
[null,null,null,43]
[null,null,null,44]
[null,null,null,45]

{"sheet":"Reserve","index":5,"n_rows":10,"n_cols":4,"rows_kept":10,"cut":false,"hidden":false,"merged":[]}
[]
["Handler / dog",null,"Country","Music"]
["Herlinde Jans/Flower Power",null,"Belgium"]
["Annette Klink Dalgaard/Ophian Giggly Gucci Go-Getter",null,"Denmark"]
["Anja Jakob/dancing little Shadow of Fast Crazy Fly",null,"Germany"]
["Karen Sykes/Our Irish Second Chance",null,"Great Britain"]
["Aniek Oerlemans/Indy",null,"Holland"]
["Yvonne Reinli/Joyce",null,"Switzerland"]
["Linnéa Vejde / Force Galaxie's Furst Wolf",null,"Sweden"]
["Galina Chogovadze / Moja Nadezhda Rolly Royce",null,"Russia"]