{"text_format":"1","workbook":"xlsx","n_sheets":6,"sheets":["Final points","HTM","Results","Team results","Starting order","Reserve"],"not_rendered":{"charts":0,"images":0,"macros":1,"external_links":0,"defined_names":13,"comments":0,"pivot_tables":0},"unopened":[],"bounds":{"document_bytes":16777216,"sheet_cells":100000,"rows_first":2000,"rows_last":500,"rows_between":2000,"halvings":0,"cell_chars":16384,"cell_head_chars":4096},"cells_cut":0,"cells_raw":0,"read":"whole","date_system":"1900"}

{"sheet":"Final points","index":0,"n_rows":22,"n_cols":17,"rows_kept":22,"cut":false,"hidden":false,"merged":[[0,4,0,14],[3,14,10,14],[2,4,2,6],[2,8,2,10],[2,12,2,14],[3,4,10,4],[3,5,10,5],[3,6,10,6],[3,8,10,8],[3,9,10,9],[3,10,10,10],[3,12,10,12],[3,13,10,13]]}
[null,"OEC                                  ",null,null,"HTM Final Points"]
[]
[null,null,null,null,"Johanna Saariluoma",null,null,null,"Claudia Moser",null,null,null,"Wies Koelewijn"]
[null,null,null,null,"Presentation/accuracy","Content/degree of difficulty","Musical interpretation",null,"Presentation/accuracy","Content/degree of difficulty","Musical interpretation",null,"Presentation/accuracy","Content/degree of difficulty","Musical interpretation"]
[]
[]
[]
[]
[]
[]
[]
[null,"Handler / dog",null,"Country"]
[1,{"$f":"HTM!B13","v":"Anja Christiansen/Feahunden's Queeny Las"},null,{"$f":"HTM!D13","v":"Denmark"},9.1,9.3000000000000007,9.5,null,9,9.1,9.4,null,9,9.1,9.1999999999999993,{"$f":"(E13+F13+G13+I13+J13+K13+M13+N13+O13)/3","v":27.566666666666666},1]
[2,{"$f":"HTM!B14","v":"Vanda Gregorová/All That Brandy Gentle Mate"},null,{"$f":"HTM!D14","v":"Czech Republic"},8.8000000000000007,8.6999999999999993,9,null,9.1999999999999993,8.5,8.9,null,9,8.9,9,26.666666666666668,2]
[3,{"$f":"HTM!B15","v":"Sidsel Rychter Lauridsen/Germal Prada"},null,{"$f":"HTM!D15","v":"Denmark"},8.6999999999999993,8.6,8.9,null,9,8.9,9.5,null,8.6,8.6,8.8000000000000007,26.533333333333331,5]
[4,{"$f":"HTM!B16","v":"Olga Kuzina/Almond Chokolat S Chernoy Vody"},null,{"$f":"HTM!D16","v":"Russia"},9.1,9.1,9.3000000000000007,null,9.1,8.8000000000000007,8.8000000000000007,null,9,9,9.1,27.099999999999998,3]
[5,{"$f":"HTM!B17","v":"Marina Delsink/Gwydion van de Hoge Laer"},null,{"$f":"HTM!D17","v":"Holland"},8.8000000000000007,8.3000000000000007,8.9,null,9,8.8000000000000007,9.1,null,8.6999999999999993,8.5,8.8000000000000007,26.299999999999997,8]
[6,{"$f":"HTM!B18","v":"Valentin Kuzmin/Gently Born Lodestar"},null,{"$f":"HTM!D18","v":"Russia"},8.5,8.9,9.1,null,8.8000000000000007,9.1,9,null,8.8000000000000007,8.5,9,26.566666666666666,6]
[7,{"$f":"HTM!B19","v":"Katja Tamminen/Cabaroo Glacier Gale"},null,{"$f":"HTM!D19","v":"Finland"},8.1999999999999993,8.8000000000000007,9,null,9.1,9.1999999999999993,9.1,null,8.5,8.6,8.8000000000000007,26.433333333333334,7]
[8,{"$f":"HTM!B20","v":"Ulrika Persson/Fladdermusens Whispers"},null,{"$f":"HTM!D20","v":"Sweden"},8.6999999999999993,8.8000000000000007,8.6,null,8.3000000000000007,8.3000000000000007,8.3000000000000007,null,8.6999999999999993,8.5,8.8000000000000007,25.666666666666668,4]
[9,{"$f":"HTM!B21","v":"Polina Ilina/Indigo"},null,{"$f":"HTM!D21","v":"Russia"},7.7,8.4,8.6,null,8,9,9.1999999999999993,null,8.1999999999999993,9.1,9,25.733333333333334,10]
[10,{"$f":"HTM!B22","v":"Kath Hardman /Stillmoor Lady in Red"},null,{"$f":"HTM!D22","v":"Great Britain"},7.8,8.4,8.4,null,8.1,8.6,8.6,null,8.5,8.9,9.1999999999999993,25.500000000000004,9]

{"sheet":"HTM","index":1,"n_rows":53,"n_cols":28,"rows_kept":53,"cut":false,"hidden":false,"merged":[[2,12,2,14],[3,6,10,6],[3,10,10,10],[3,14,10,14],[3,4,10,4],[3,5,10,5],[3,8,10,8],[2,4,2,6],[2,8,2,10],[6,16,10,19],[6,20,10,23],[6,24,10,27],[3,9,10,9],[3,12,10,12],[3,13,10,13]]}
[]
["OEC"]
[null,null,null,null,"Johanna Saariluoma (FI)",null,null,null,"Claudia Moser (CH)",null,null,null,"Wies Koelewijn (NL)"]
[null,"Heelwork to Music qualifying round",null,null,"Presentation/Accuracy","Content/degree of difficulty","Musical Interpretation",null,"Presentation/Accuracy","Content/degree of difficulty","Musical Interpretation",null,"Presentation/Accuracy","Content/degree of difficulty","Musical Interpretation"]
[]
[]
[null,null,null,null,null,null,null,null,null,null,null,null,null,null,null,null,"Presentation/Accuracy",null,null,null,"Content/degree of difficulty",null,null,null,"Musical Interpretation"]
[]
[]
[null," "]
[]
[null,"Handler / dog",null,"Country",null,null,null,null,null,null,null,null,null,null,null,"Total"]
[21,"Anja Christiansen/Feahunden's Queeny Las",null,"Denmark",9.1999999999999993,9.1,9.4,null,9.1999999999999993,9.1999999999999993,9.4,null,9,9.1,9.1,{"$f":"(E13+F13+G13+I13+J13+K13+M13+N13+O13)/3","v":27.566666666666663},{"$f":"SUM(E13+I13+M13)","v":27.4},{"$f":"(Q13/30)*100","v":91.333333333333329},"%",{"$f":"IF(R13>74.9,\"\",\"IB\")","v":""},{"$f":"SUM(F13+J13+N13)","v":27.4},{"$f":"(U13/30)*100","v":91.333333333333329},"%",{"$f":"IF(V13>74.9,\"\",\"IB\")","v":""},{"$f":"SUM(G13+K13+O13)","v":27.9},{"$f":"(Y13/30)*100","v":93},"%",{"$f":"IF(Z13>74.9,\"\",\"IB\")","v":""}]
[38,"Vanda Gregorová/All That Brandy Gentle Mate",null,"Czech Republic",8.6,8.6999999999999993,8.8000000000000007,null,9.5,9.1,9.3000000000000007,null,8.9,8.9,9,26.933333333333334,{"$f":"SUM(E14+I14+M14)","v":27},{"$f":"(Q14/30)*100","v":90},"%",{"$f":"IF(R14>74.9,\"\",\"IB\")","v":""},{"$f":"SUM(F14+J14+N14)","v":26.699999999999996},{"$f":"(U14/30)*100","v":88.999999999999986},"%",{"$f":"IF(V14>74.9,\"\",\"IB\")","v":""},{"$f":"SUM(G14+K14+O14)","v":27.1},{"$f":"(Y14/30)*100","v":90.333333333333343},"%",{"$f":"IF(Z14>74.9,\"\",\"IB\")","v":""}]
[34,"Sidsel Rychter Lauridsen/Germal Prada",null,"Denmark",8.3000000000000007,8.9,8.6,null,9.6,9.4,9.8000000000000007,null,8.6999999999999993,8.5,8.8000000000000007,26.866666666666671,26.599999999999998,88.666666666666657,"%","",26.8,89.333333333333329,"%","",27.2,90.666666666666657,"%",""]
[7,"Olga Kuzina/Almond Chokolat S Chernoy Vody",null,"Russia",8.6,8.8000000000000007,8.8000000000000007,null,9.1999999999999993,8.8000000000000007,9.3000000000000007,null,9,9,9.1,26.866666666666664,26.799999999999997,89.333333333333314,"%","",26.6,88.666666666666671,"%","",27.200000000000003,90.666666666666671,"%",""]
[18,"Marina Delsink/Gwydion van de Hoge Laer",null,"Holland",8.3000000000000007,8.4,8.8000000000000007,null,9.6,9.1999999999999993,9.6,null,8.3000000000000007,8.1999999999999993,8,26.133333333333336,26.2,87.333333333333329,"%","",25.8,86,"%","",26.4,88,"%",""]
[29,"Valentin Kuzmin/Gently Born Lodestar",null,"Russia",8.4,8.5,8.6,null,9.5,9.6,9.6999999999999993,null,8,7.9,8.1999999999999993,26.133333333333336,25.9,86.333333333333329,"%","",26,86.666666666666671,"%","",26.499999999999996,88.333333333333314,"%",""]
[32,"Katja Tamminen/Cabaroo Glacier Gale",null,"Finland",7.7,8.8000000000000007,8.8000000000000007,null,8.9,9.4,9.6,null,8.1999999999999993,8.3000000000000007,8.6,26.099999999999998,24.8,82.666666666666671,"%","",26.500000000000004,88.333333333333343,"%","",27,90,"%",""]
[36,"Ulrika Persson/Fladdermusens Whispers",null,"Sweden",8.3000000000000007,8.6999999999999993,8.4,null,8.6999999999999993,8.4,8.4,null,8.6999999999999993,8.4,8.6999999999999993,25.566666666666666,25.7,85.666666666666671,"%","",25.5,85,"%","",25.5,85,"%",""]
[39,"Polina Ilina/Indigo",null,"Russia",7.4,8,7.8,null,8,9.3000000000000007,9.6,null,8.1999999999999993,9.1,9.1,25.499999999999996,23.6,78.666666666666671,"%","",26.4,88,"%","",26.5,88.333333333333329,"%",""]
[13,"Kath Hardman /Stillmoor Lady in Red",null,"Great Britain",7.8,8.6,8.4,null,7.5,8.4,8.4,null,9,9,9.1999999999999993,25.433333333333334,24.3,81,"%","",26,86.666666666666671,"%","",26,86.666666666666671,"%",""]
[40,"Jules O'Dwyer / Van de Galeystukken Hellraiser",null,"Belgium ",7.5,7.2,7.2,null,9,8.9,9.1,null,8.9,9.1,9,25.299999999999997,25.4,84.666666666666657,"%","",25.200000000000003,84.000000000000014,"%","",25.3,84.333333333333343,"%",""]
[17,"Galina Chogovadze/Sun Light Spot",null,"Russia",7.4,6.8,7.3,null,9,8.9,9.3000000000000007,null,8.9,9.1,9.1,25.266666666666666,25.299999999999997,84.333333333333329,"%","",24.799999999999997,82.666666666666657,"%","",25.700000000000003,85.666666666666686,"%",""]
[37,"Jessica Karlgren/Camp Alpha's Izy",null,"Norway",7.1,8.4,8.6,null,7.7,9.1999999999999993,9.8000000000000007,null,7.3,8.9,8.6,25.2,22.1,73.666666666666671,"%","IB",26.5,88.333333333333329,"%","",27,90,"%",""]
[41,"Christel van Boven/Gina vom Aranka House",null,"Belgium ",8.9,8.5,7.6,null,8.8000000000000007,8.4,8.1,null,8.1,8.1,8.6,25.033333333333331,25.800000000000004,86.000000000000014,"%","",25,83.333333333333343,"%","",24.299999999999997,81,"%",""]
[5,"Minna Yrjana/Like a Hurricane Branwenn Brady","i","Finland",7.8,7.3,7.3,null,8.5,7.8,9.1999999999999993,null,8.9,8.8000000000000007,9,24.866666666666664,25.200000000000003,84.000000000000014,null,"",23.9,79.666666666666657,null,"",25.5,85,null,""]
[23,"Monika Olšovská / Arsinoé z Ríše Wa","i","Slovakia",7.8,7.3,7.4,null,8.6,7.9,9.3000000000000007,null,8.4,8.1999999999999993,8.5,24.466666666666665,24.799999999999997,82.666666666666657,null,"",23.4,77.999999999999986,null,"",25.200000000000003,84.000000000000014,null,""]
[26,"Helle Larssen/Littlethorn Top Fuel",null,"Denmark",7.9,7.4,7.4,null,8.6999999999999993,9,9.1,null,7.9,7.9,8,24.433333333333337,24.5,81.666666666666671,null,"",24.299999999999997,81,null,"",24.5,81.666666666666671,null,""]
[20,"Daniela Šišková/Aurora Piranha Rainy Love",null,"Czech Republic",8,7.4,7.3,null,8.6,8.6999999999999993,8.6999999999999993,null,8.1,8,8.4,24.400000000000006,24.700000000000003,82.333333333333343,null,"",24.1,80.333333333333329,null,"",24.4,81.333333333333329,null,""]
[2,"Sabine Astrom/Promotion Buell Cyclone",null,"Sweden",8,7.3,8,null,7.9,8.9,7.8,null,8.1999999999999993,8.1,8.6,24.266666666666662,24.1,80.333333333333329,null,"",24.299999999999997,81,null,"",24.4,81.333333333333329,null,""]
[4,"Anne Gry Øyeflaten/Havrevingens Ambra",null,"Norway",7.8,7.7,6.9,null,8.5,8.6999999999999993,8.8000000000000007,null,8.1,7.8,8.4,24.233333333333334,24.4,81.333333333333329,null,"",24.2,80.666666666666657,null,"",24.1,80.333333333333329,null,""]
[9,"Susann Wastenson/Skogvallarens Frodo",null,"Sweden",7.8,8.1,7.4,null,8.3000000000000007,8.4,8.6999999999999993,null,8,7.9,8,24.200000000000003,24.1,80.333333333333329,null,"",24.4,81.333333333333329,null,"",24.1,80.333333333333329,null,""]
[11,"Susanna Ekblom/Cabaroo Dances on Ice",null,"Finland",7.6,8.1999999999999993,8,null,7.5,8,8.6,null,7.9,8,8.6,24.133333333333329,23,76.666666666666671,null,"",24.2,80.666666666666657,null,"",25.200000000000003,84.000000000000014,null,""]
[14,"Šimona Drábková/Frederica Alary Aslar",null,"Czech Republic",8,7.7,7.2,null,8.6999999999999993,8.5,7.9,null,7.9,8.1999999999999993,8.1,24.066666666666663,24.6,82,null,"",24.4,81.333333333333329,null,"",23.200000000000003,77.333333333333343,null,""]
[15,"Christiane Hanchir/Funnyluna van Natterekja",null,"Belgium ",7.5,7.7,9,null,7.5,8.5,7.8,null,8,7.9,8.1999999999999993,24.033333333333331,23,76.666666666666671,null,"",24.1,80.333333333333329,null,"",25,83.333333333333343,null,""]
[30,"Arlette Cloes / Ginger van de Duvetorre",null,"Belgium ",6.9,7,7.1,null,8,8.5,9,null,8,8.1999999999999993,8.5,23.733333333333334,22.9,76.333333333333329,null,"",23.7,78.999999999999986,null,"",24.6,82,null,""]
[19,"Brigitte van Gestel/Joyful Life van Benvenida's Joy",null,"Holland",6.6,8.3000000000000007,8.3000000000000007,null,6.3,8.9,8.4,null,7.1,8.9,8.1999999999999993,23.666666666666668,20,66.666666666666657,null,"IB",26.1,87,null,"",24.900000000000002,83,null,""]
[31,"Esther Niemeijer/Cookie's Fortune Cowgirl Pride",null,"Holland",7.4,7.3,8.1999999999999993,null,6.6,8.1999999999999993,8.6,null,7.8,8,8.4,23.5,21.8,72.666666666666671,null,"IB",23.5,78.333333333333329,null,"",25.199999999999996,83.999999999999986,null,""]
[8,"Helle Larssen/Littlethorn Avensis",null,"Denmark",7.8,7,7.4,null,8,7.6,8.6,null,8,7.8,8.1,23.433333333333334,23.8,79.333333333333329,null,"",22.4,74.666666666666657,null,"IB",24.1,80.333333333333329,null,""]
[1,"Monika Gehrke/Nice of you to Come Bye Gigolo Jan",null,"Germany",7.3,8.6,7.5,null,6.4,8.1999999999999993,7.8,null,8,7.9,8.5,23.399999999999995,21.7,72.333333333333329,null,"IB",24.699999999999996,82.333333333333314,null,"",23.8,79.333333333333329,null,""]
[10,"Carina Persson/Obetes Pop",null,"Sweden",7.5,7.4,7.1,null,7.9,8.1,7.7,null,7.8,7.9,8,23.133333333333336]
[33,"Sini Eriksson/Mutkis Onnensoturi",null,"Finland",7.2,7.2,7.5,null,7.3,8,8.1,null,7.6,7.9,8.4,23.066666666666666]
[27,"Corinne Médauer/Vulcain du Domaine de Joléa","i","France",7.5,7.2,7.1,null,8,8,6.6,null,7.8,7.9,8,22.7]
[12,"Lisa Joachimsky / Foxita",null,"Germany",6.9,7.1,6.8,null,7.1,7.6,8.1,null,7.7,8,8.1,22.466666666666669]
[16,"Jackie de Jong / Jackie's Indi",null,"Great Britain",7.8,7.4,7.1,null,7,6.9,6.7,null,7.8,7.6,8,22.099999999999998]
[35,"Lesley Neville/Red Hot Hamish at Choxxstart",null,"Great Britain",6.7,6.8,6.8,null,7.3,6.8,7.8,null,7.4,7.9,7.9,21.799999999999997]
[6,"Anja Jakob/Dancing little Shadow of Fast Crazy Fly",null,"Germany",7.6,6.8,6.9,null,7,6.5,7.7,null,7.6,7.2,8,21.766666666666669]
[24,"Sofie Greven/Detania Herst Roos",null,"Holland",6.8,5,6.8,null,6.7,7.3,7.1,null,7.5,7.1,7.1,20.466666666666669]
[22,"Katharina von Dach/Pyla","i","Switzerland",7,4.3,6.7,null,6.7,4.0999999999999996,8.5,null,7.8,7.6,8,20.233333333333331]
[25,"Dylan Smith/Correidhu Chase",null,"Great Britain",6.6,4.3,6.7,null,6.5,6.9,7,null,6.2,6.2,7,19.133333333333336]
[3,"Marina Stilkenboom/Johnny the Little Black Devil","i","Germany",6.6,4,5.9,null,5.3,4.2,6.2,null,6.2,6,7,17.133333333333336]
[28,"Christiane Gioanni/Eldorado Columbian Rush de Solemel","i","France",5,4,4.9000000000000004,null,5.2,6.2,6.8,null,6,5.9,6.5,16.833333333333332]

{"sheet":"Results","index":2,"n_rows":53,"n_cols":14,"rows_kept":53,"cut":false,"hidden":false,"merged":[[10,8,10,11],[3,8,4,12],[6,8,6,12],[55,0,55,6],[54,0,54,16383],[0,1,0,5],[4,2,4,6],[6,2,6,6],[8,2,8,6],[2,3,2,6],[4,0,4,1]]}
[]
[]
[]
[]
["Judge 1",null,"Johanna Saariluoma (FI)"]
[]
["Judge 2",null,"Claudia Moser (CH)"]
[]
["Judge 3",null,"Wies Koelewijn (NL)"]
[]
[null,null,null,null,null,null,null,null,"Final points"]
["Place","Country","Handler/dog",1,2,3,"Points",null,1,2,3,"Point","Total Points"]
[1,{"$f":"HTM!D13","v":"Denmark"},{"$f":"HTM!B13","v":"Anja Christiansen/Feahunden's Queeny Las"},{"$f":"(HTM!E13+HTM!F13+HTM!G13)","v":27.699999999999996},{"$f":"(HTM!I13+HTM!J13+HTM!K13)","v":27.799999999999997},{"$f":"(HTM!M13+HTM!N13+HTM!O13)","v":27.200000000000003},{"$f":"(D13+E13+F13)/3","v":27.566666666666663},null,{"$f":"('Final points'!E13+'Final points'!F13+'Final points'!G13)","v":27.9},{"$f":"('Final points'!I13+'Final points'!J13+'Final points'!K13)","v":27.5},{"$f":"('Final points'!M13+'Final points'!N13+'Final points'!O13)","v":27.3},{"$f":"(I13+J13+K13)/3","v":27.566666666666666},{"$f":"(G13+L13)","v":55.133333333333326},1]
[2,{"$f":"HTM!D14","v":"Czech Republic"},{"$f":"HTM!B14","v":"Vanda Gregorová/All That Brandy Gentle Mate"},{"$f":"(HTM!E14+HTM!F14+HTM!G14)","v":26.099999999999998},{"$f":"(HTM!I14+HTM!J14+HTM!K14)","v":27.900000000000002},{"$f":"(HTM!M14+HTM!N14+HTM!O14)","v":26.8},{"$f":"(D14+E14+F14)/3","v":26.933333333333334},null,{"$f":"('Final points'!E14+'Final points'!F14+'Final points'!G14)","v":26.5},{"$f":"('Final points'!I14+'Final points'!J14+'Final points'!K14)","v":26.6},{"$f":"('Final points'!M14+'Final points'!N14+'Final points'!O14)","v":26.9},{"$f":"(I14+J14+K14)/3","v":26.666666666666668},{"$f":"(G14+L14)","v":53.6},3]
[3,{"$f":"HTM!D15","v":"Denmark"},{"$f":"HTM!B15","v":"Sidsel Rychter Lauridsen/Germal Prada"},{"$f":"(HTM!E15+HTM!F15+HTM!G15)","v":25.800000000000004},{"$f":"(HTM!I15+HTM!J15+HTM!K15)","v":28.8},{"$f":"(HTM!M15+HTM!N15+HTM!O15)","v":26},26.866666666666671,null,{"$f":"('Final points'!E15+'Final points'!F15+'Final points'!G15)","v":26.199999999999996},{"$f":"('Final points'!I15+'Final points'!J15+'Final points'!K15)","v":27.4},{"$f":"('Final points'!M15+'Final points'!N15+'Final points'!O15)","v":26},26.533333333333331,53.400000000000006,4]
[4,{"$f":"HTM!D16","v":"Russia"},{"$f":"HTM!B16","v":"Olga Kuzina/Almond Chokolat S Chernoy Vody"},{"$f":"(HTM!E16+HTM!F16+HTM!G16)","v":26.2},{"$f":"(HTM!I16+HTM!J16+HTM!K16)","v":27.3},{"$f":"(HTM!M16+HTM!N16+HTM!O16)","v":27.1},26.866666666666664,null,{"$f":"('Final points'!E16+'Final points'!F16+'Final points'!G16)","v":27.5},{"$f":"('Final points'!I16+'Final points'!J16+'Final points'!K16)","v":26.7},{"$f":"('Final points'!M16+'Final points'!N16+'Final points'!O16)","v":27.1},27.100000000000005,53.966666666666669,2]
[5,{"$f":"HTM!D17","v":"Holland"},{"$f":"HTM!B17","v":"Marina Delsink/Gwydion van de Hoge Laer"},{"$f":"(HTM!E17+HTM!F17+HTM!G17)","v":25.500000000000004},{"$f":"(HTM!I17+HTM!J17+HTM!K17)","v":28.4},{"$f":"(HTM!M17+HTM!N17+HTM!O17)","v":24.5},26.133333333333336,null,{"$f":"('Final points'!E17+'Final points'!F17+'Final points'!G17)","v":26},{"$f":"('Final points'!I17+'Final points'!J17+'Final points'!K17)","v":26.9},{"$f":"('Final points'!M17+'Final points'!N17+'Final points'!O17)","v":26},26.3,52.433333333333337,7]
[6,{"$f":"HTM!D18","v":"Russia"},{"$f":"HTM!B18","v":"Valentin Kuzmin/Gently Born Lodestar"},{"$f":"(HTM!E18+HTM!F18+HTM!G18)","v":25.5},{"$f":"(HTM!I18+HTM!J18+HTM!K18)","v":28.8},{"$f":"(HTM!M18+HTM!N18+HTM!O18)","v":24.1},26.133333333333336,null,{"$f":"('Final points'!E18+'Final points'!F18+'Final points'!G18)","v":26.5},{"$f":"('Final points'!I18+'Final points'!J18+'Final points'!K18)","v":26.9},{"$f":"('Final points'!M18+'Final points'!N18+'Final points'!O18)","v":26.3},26.566666666666666,52.7,5]
[7,{"$f":"HTM!D19","v":"Finland"},{"$f":"HTM!B19","v":"Katja Tamminen/Cabaroo Glacier Gale"},{"$f":"(HTM!E19+HTM!F19+HTM!G19)","v":25.3},{"$f":"(HTM!I19+HTM!J19+HTM!K19)","v":27.9},{"$f":"(HTM!M19+HTM!N19+HTM!O19)","v":25.1},26.100000000000005,null,{"$f":"('Final points'!E19+'Final points'!F19+'Final points'!G19)","v":26},{"$f":"('Final points'!I19+'Final points'!J19+'Final points'!K19)","v":27.4},{"$f":"('Final points'!M19+'Final points'!N19+'Final points'!O19)","v":25.900000000000002},26.433333333333334,52.533333333333339,6]
[8,{"$f":"HTM!D20","v":"Sweden"},{"$f":"HTM!B20","v":"Ulrika Persson/Fladdermusens Whispers"},{"$f":"(HTM!E20+HTM!F20+HTM!G20)","v":25.4},{"$f":"(HTM!I20+HTM!J20+HTM!K20)","v":25.5},{"$f":"(HTM!M20+HTM!N20+HTM!O20)","v":25.8},25.566666666666666,null,{"$f":"('Final points'!E20+'Final points'!F20+'Final points'!G20)","v":26.1},{"$f":"('Final points'!I20+'Final points'!J20+'Final points'!K20)","v":24.900000000000002},{"$f":"('Final points'!M20+'Final points'!N20+'Final points'!O20)","v":26},25.666666666666668,51.233333333333334,8]
[9,{"$f":"HTM!D21","v":"Russia"},{"$f":"HTM!B21","v":"Polina Ilina/Indigo"},{"$f":"(HTM!E21+HTM!F21+HTM!G21)","v":23.2},{"$f":"(HTM!I21+HTM!J21+HTM!K21)","v":26.9},{"$f":"(HTM!M21+HTM!N21+HTM!O21)","v":26.4},25.5,null,{"$f":"('Final points'!E21+'Final points'!F21+'Final points'!G21)","v":24.700000000000003},{"$f":"('Final points'!I21+'Final points'!J21+'Final points'!K21)","v":26.2},{"$f":"('Final points'!M21+'Final points'!N21+'Final points'!O21)","v":26.299999999999997},25.733333333333334,51.233333333333334]
[10,{"$f":"HTM!D22","v":"Great Britain"},{"$f":"HTM!B22","v":"Kath Hardman /Stillmoor Lady in Red"},{"$f":"(HTM!E22+HTM!F22+HTM!G22)","v":24.799999999999997},{"$f":"(HTM!I22+HTM!J22+HTM!K22)","v":24.3},{"$f":"(HTM!M22+HTM!N22+HTM!O22)","v":27.2},25.433333333333334,null,{"$f":"('Final points'!E22+'Final points'!F22+'Final points'!G22)","v":24.6},{"$f":"('Final points'!I22+'Final points'!J22+'Final points'!K22)","v":25.299999999999997},{"$f":"('Final points'!M22+'Final points'!N22+'Final points'!O22)","v":26.599999999999998},25.5,50.933333333333337]
[11,{"$f":"HTM!D23","v":"Belgium "},{"$f":"HTM!B23","v":"Jules O'Dwyer / Van de Galeystukken Hellraiser"},{"$f":"(HTM!E23+HTM!F23+HTM!G23)","v":21.9},{"$f":"(HTM!I23+HTM!J23+HTM!K23)","v":27},{"$f":"(HTM!M23+HTM!N23+HTM!O23)","v":27},25.3,null,null,null,null,null,25.3]
[12,{"$f":"HTM!D24","v":"Russia"},{"$f":"HTM!B24","v":"Galina Chogovadze/Sun Light Spot"},{"$f":"(HTM!E24+HTM!F24+HTM!G24)","v":21.5},{"$f":"(HTM!I24+HTM!J24+HTM!K24)","v":27.2},{"$f":"(HTM!M24+HTM!N24+HTM!O24)","v":27.1},25.266666666666669,null,null,null,null,null,25.266666666666669]
[13,{"$f":"HTM!D25","v":"Norway"},{"$f":"HTM!B25","v":"Jessica Karlgren/Camp Alpha's Izy"},{"$f":"(HTM!E25+HTM!F25+HTM!G25)","v":24.1},{"$f":"(HTM!I25+HTM!J25+HTM!K25)","v":26.7},{"$f":"(HTM!M25+HTM!N25+HTM!O25)","v":24.799999999999997},25.2,null,null,null,null,null,25.2]
[14,{"$f":"HTM!D26","v":"Belgium "},{"$f":"HTM!B26","v":"Christel van Boven/Gina vom Aranka House"},{"$f":"(HTM!E26+HTM!F26+HTM!G26)","v":25},{"$f":"(HTM!I26+HTM!J26+HTM!K26)","v":25.300000000000004},{"$f":"(HTM!M26+HTM!N26+HTM!O26)","v":24.799999999999997},25.033333333333331,null,null,null,null,null,25.033333333333331]
[15,{"$f":"HTM!D27","v":"Finland"},{"$f":"HTM!B27","v":"Minna Yrjana/Like a Hurricane Branwenn Brady"},{"$f":"(HTM!E27+HTM!F27+HTM!G27)","v":22.4},{"$f":"(HTM!I27+HTM!J27+HTM!K27)","v":25.5},{"$f":"(HTM!M27+HTM!N27+HTM!O27)","v":26.700000000000003},{"$f":"(D27+E27+F27)/3","v":24.866666666666664},null,null,null,null,null,{"$f":"(G27+L27)","v":24.866666666666664}]
[16,{"$f":"HTM!D28","v":"Slovakia"},{"$f":"HTM!B28","v":"Monika Olšovská / Arsinoé z Ríše Wa"},{"$f":"(HTM!E28+HTM!F28+HTM!G28)","v":22.5},{"$f":"(HTM!I28+HTM!J28+HTM!K28)","v":25.8},{"$f":"(HTM!M28+HTM!N28+HTM!O28)","v":25.1},24.466666666666669,null,null,null,null,null,24.466666666666669]
[17,{"$f":"HTM!D29","v":"Denmark"},{"$f":"HTM!B29","v":"Helle Larssen/Littlethorn Top Fuel"},{"$f":"(HTM!E29+HTM!F29+HTM!G29)","v":22.700000000000003},{"$f":"(HTM!I29+HTM!J29+HTM!K29)","v":26.799999999999997},{"$f":"(HTM!M29+HTM!N29+HTM!O29)","v":23.8},24.433333333333334,null,null,null,null,null,24.433333333333334]
[18,{"$f":"HTM!D30","v":"Czech Republic"},{"$f":"HTM!B30","v":"Daniela Šišková/Aurora Piranha Rainy Love"},{"$f":"(HTM!E30+HTM!F30+HTM!G30)","v":22.7},{"$f":"(HTM!I30+HTM!J30+HTM!K30)","v":25.999999999999996},{"$f":"(HTM!M30+HTM!N30+HTM!O30)","v":24.5},24.399999999999995,null,null,null,null,null,24.399999999999995]
[19,{"$f":"HTM!D31","v":"Sweden"},{"$f":"HTM!B31","v":"Sabine Astrom/Promotion Buell Cyclone"},{"$f":"(HTM!E31+HTM!F31+HTM!G31)","v":23.3},{"$f":"(HTM!I31+HTM!J31+HTM!K31)","v":24.6},{"$f":"(HTM!M31+HTM!N31+HTM!O31)","v":24.9},24.266666666666669,null,null,null,null,null,24.266666666666669]
[20,{"$f":"HTM!D32","v":"Norway"},{"$f":"HTM!B32","v":"Anne Gry Øyeflaten/Havrevingens Ambra"},{"$f":"(HTM!E32+HTM!F32+HTM!G32)","v":22.4},{"$f":"(HTM!I32+HTM!J32+HTM!K32)","v":26},{"$f":"(HTM!M32+HTM!N32+HTM!O32)","v":24.299999999999997},24.233333333333331,null,null,null,null,null,24.233333333333331]
[21,{"$f":"HTM!D33","v":"Sweden"},{"$f":"HTM!B33","v":"Susann Wastenson/Skogvallarens Frodo"},{"$f":"(HTM!E33+HTM!F33+HTM!G33)","v":23.299999999999997},{"$f":"(HTM!I33+HTM!J33+HTM!K33)","v":25.400000000000002},{"$f":"(HTM!M33+HTM!N33+HTM!O33)","v":23.9},24.2,null,null,null,null,null,24.2]
[22,{"$f":"HTM!D34","v":"Finland"},{"$f":"HTM!B34","v":"Susanna Ekblom/Cabaroo Dances on Ice"},{"$f":"(HTM!E34+HTM!F34+HTM!G34)","v":23.799999999999997},{"$f":"(HTM!I34+HTM!J34+HTM!K34)","v":24.1},{"$f":"(HTM!M34+HTM!N34+HTM!O34)","v":24.5},24.133333333333336,null,null,null,null,null,24.133333333333336]
[23,{"$f":"HTM!D35","v":"Czech Republic"},{"$f":"HTM!B35","v":"Šimona Drábková/Frederica Alary Aslar"},{"$f":"(HTM!E35+HTM!F35+HTM!G35)","v":22.9},{"$f":"(HTM!I35+HTM!J35+HTM!K35)","v":25.1},{"$f":"(HTM!M35+HTM!N35+HTM!O35)","v":24.200000000000003},24.066666666666666,null,null,null,null,null,24.066666666666666]
[24,{"$f":"HTM!D36","v":"Belgium "},{"$f":"HTM!B36","v":"Christiane Hanchir/Funnyluna van Natterekja"},{"$f":"(HTM!E36+HTM!F36+HTM!G36)","v":24.2},{"$f":"(HTM!I36+HTM!J36+HTM!K36)","v":23.8},{"$f":"(HTM!M36+HTM!N36+HTM!O36)","v":24.1},24.033333333333331,null,null,null,null,null,24.033333333333331]
[25,{"$f":"HTM!D37","v":"Belgium "},{"$f":"HTM!B37","v":"Arlette Cloes / Ginger van de Duvetorre"},{"$f":"(HTM!E37+HTM!F37+HTM!G37)","v":21},{"$f":"(HTM!I37+HTM!J37+HTM!K37)","v":25.5},{"$f":"(HTM!M37+HTM!N37+HTM!O37)","v":24.7},23.733333333333334,null,null,null,null,null,23.733333333333334]
[26,{"$f":"HTM!D38","v":"Holland"},{"$f":"HTM!B38","v":"Brigitte van Gestel/Joyful Life van Benvenida's Joy"},{"$f":"(HTM!E38+HTM!F38+HTM!G38)","v":23.200000000000003},{"$f":"(HTM!I38+HTM!J38+HTM!K38)","v":23.6},{"$f":"(HTM!M38+HTM!N38+HTM!O38)","v":24.2},23.666666666666668,null,null,null,null,null,23.666666666666668]
[27,{"$f":"HTM!D39","v":"Holland"},{"$f":"HTM!B39","v":"Esther Niemeijer/Cookie's Fortune Cowgirl Pride"},{"$f":"(HTM!E39+HTM!F39+HTM!G39)","v":22.9},{"$f":"(HTM!I39+HTM!J39+HTM!K39)","v":23.4},{"$f":"(HTM!M39+HTM!N39+HTM!O39)","v":24.200000000000003},23.5,null,null,null,null,null,23.5]
[28,{"$f":"HTM!D40","v":"Denmark"},{"$f":"HTM!B40","v":"Helle Larssen/Littlethorn Avensis"},{"$f":"(HTM!E40+HTM!F40+HTM!G40)","v":22.200000000000003},{"$f":"(HTM!I40+HTM!J40+HTM!K40)","v":24.2},{"$f":"(HTM!M40+HTM!N40+HTM!O40)","v":23.9},23.433333333333337,null,null,null,null,null,23.433333333333337]
[29,{"$f":"HTM!D41","v":"Germany"},{"$f":"HTM!B41","v":"Monika Gehrke/Nice of you to Come Bye Gigolo Jan"},{"$f":"(HTM!E41+HTM!F41+HTM!G41)","v":23.4},{"$f":"(HTM!I41+HTM!J41+HTM!K41)","v":22.4},{"$f":"(HTM!M41+HTM!N41+HTM!O41)","v":24.4},23.399999999999995,null,null,null,null,null,23.399999999999995]
[30,{"$f":"HTM!D42","v":"Sweden"},{"$f":"HTM!B42","v":"Carina Persson/Obetes Pop"},{"$f":"(HTM!E42+HTM!F42+HTM!G42)","v":22},{"$f":"(HTM!I42+HTM!J42+HTM!K42)","v":23.7},{"$f":"(HTM!M42+HTM!N42+HTM!O42)","v":23.7},23.133333333333336,null,null,null,null,null,23.133333333333336]
[31,{"$f":"HTM!D43","v":"Finland"},{"$f":"HTM!B43","v":"Sini Eriksson/Mutkis Onnensoturi"},{"$f":"(HTM!E43+HTM!F43+HTM!G43)","v":21.9},{"$f":"(HTM!I43+HTM!J43+HTM!K43)","v":23.4},{"$f":"(HTM!M43+HTM!N43+HTM!O43)","v":23.9},{"$f":"(D43+E43+F43)/3","v":23.066666666666663},null,null,null,null,null,{"$f":"(G43+L43)","v":23.066666666666663}]
[32,{"$f":"HTM!D44","v":"France"},{"$f":"HTM!B44","v":"Corinne Médauer/Vulcain du Domaine de Joléa"},{"$f":"(HTM!E44+HTM!F44+HTM!G44)","v":21.799999999999997},{"$f":"(HTM!I44+HTM!J44+HTM!K44)","v":22.6},{"$f":"(HTM!M44+HTM!N44+HTM!O44)","v":23.7},22.7,null,null,null,null,null,22.7]
[33,{"$f":"HTM!D45","v":"Germany"},{"$f":"HTM!B45","v":"Lisa Joachimsky / Foxita"},{"$f":"(HTM!E45+HTM!F45+HTM!G45)","v":20.8},{"$f":"(HTM!I45+HTM!J45+HTM!K45)","v":22.799999999999997},{"$f":"(HTM!M45+HTM!N45+HTM!O45)","v":23.799999999999997},22.466666666666665,null,null,null,null,null,22.466666666666665]
[34,{"$f":"HTM!D46","v":"Great Britain"},{"$f":"HTM!B46","v":"Jackie de Jong / Jackie's Indi"},{"$f":"(HTM!E46+HTM!F46+HTM!G46)","v":22.299999999999997},{"$f":"(HTM!I46+HTM!J46+HTM!K46)","v":20.6},{"$f":"(HTM!M46+HTM!N46+HTM!O46)","v":23.4},22.099999999999998,null,null,null,null,null,22.099999999999998]
[35,{"$f":"HTM!D47","v":"Great Britain"},{"$f":"HTM!B47","v":"Lesley Neville/Red Hot Hamish at Choxxstart"},{"$f":"(HTM!E47+HTM!F47+HTM!G47)","v":20.3},{"$f":"(HTM!I47+HTM!J47+HTM!K47)","v":21.9},{"$f":"(HTM!M47+HTM!N47+HTM!O47)","v":23.200000000000003},21.8,null,null,null,null,null,21.8]
[36,{"$f":"HTM!D48","v":"Germany"},{"$f":"HTM!B48","v":"Anja Jakob/Dancing little Shadow of Fast Crazy Fly"},{"$f":"(HTM!E48+HTM!F48+HTM!G48)","v":21.299999999999997},{"$f":"(HTM!I48+HTM!J48+HTM!K48)","v":21.2},{"$f":"(HTM!M48+HTM!N48+HTM!O48)","v":22.8},21.766666666666666,null,null,null,null,null,21.766666666666666]
[37,{"$f":"HTM!D49","v":"Holland"},{"$f":"HTM!B49","v":"Sofie Greven/Detania Herst Roos"},{"$f":"(HTM!E49+HTM!F49+HTM!G49)","v":18.600000000000001},{"$f":"(HTM!I49+HTM!J49+HTM!K49)","v":21.1},{"$f":"(HTM!M49+HTM!N49+HTM!O49)","v":21.7},20.466666666666669,null,null,null,null,null,20.466666666666669]
[38,{"$f":"HTM!D50","v":"Switzerland"},{"$f":"HTM!B50","v":"Katharina von Dach/Pyla"},{"$f":"(HTM!E50+HTM!F50+HTM!G50)","v":18},{"$f":"(HTM!I50+HTM!J50+HTM!K50)","v":19.3},{"$f":"(HTM!M50+HTM!N50+HTM!O50)","v":23.4},20.233333333333331,null,null,null,null,null,20.233333333333331]
[39,{"$f":"HTM!D51","v":"Great Britain"},{"$f":"HTM!B51","v":"Dylan Smith/Correidhu Chase"},{"$f":"(HTM!E51+HTM!F51+HTM!G51)","v":17.599999999999998},{"$f":"(HTM!I51+HTM!J51+HTM!K51)","v":20.399999999999999},{"$f":"(HTM!M51+HTM!N51+HTM!O51)","v":19.399999999999999},19.133333333333333,null,null,null,null,null,19.133333333333333]
[40,{"$f":"HTM!D52","v":"Germany"},{"$f":"HTM!B52","v":"Marina Stilkenboom/Johnny the Little Black Devil"},{"$f":"(HTM!E52+HTM!F52+HTM!G52)","v":16.5},{"$f":"(HTM!I52+HTM!J52+HTM!K52)","v":15.7},{"$f":"(HTM!M52+HTM!N52+HTM!O52)","v":19.2},17.133333333333336,null,null,null,null,null,17.133333333333336]
[41,{"$f":"HTM!D53","v":"France"},{"$f":"HTM!B53","v":"Christiane Gioanni/Eldorado Columbian Rush de Solemel"},{"$f":"(HTM!E53+HTM!F53+HTM!G53)","v":13.9},{"$f":"(HTM!I53+HTM!J53+HTM!K53)","v":18.2},{"$f":"(HTM!M53+HTM!N53+HTM!O53)","v":18.399999999999999},16.833333333333332,null,null,null,null,null,16.833333333333332]

{"sheet":"Team results","index":3,"n_rows":39,"n_cols":5,"rows_kept":39,"cut":false,"hidden":false,"merged":[[0,0,0,4]]}
["HTM              OEC Team Results"]
[]
["Country","Handler/dog","Points","Total points","Place"]
["Belgium ","Jules O'Dwyer / Van de Galeystukken Hellraiser",25.3,{"$f":"LARGE(C4:C7,1)+LARGE(C4:C7,2)+LARGE(C4:C7,3)","v":74.36}]
["Belgium ","Christel van Boven/Gina vom Aranka House",25.03,{"$f":"LARGE(C4:C7,1)+LARGE(C4:C7,2)+LARGE(C4:C7,3)","v":74.36},4]
["Belgium ","Arlette Cloes / Ginger van de Duvetorre",23.73,{"$f":"LARGE(C4:C7,1)+LARGE(C4:C7,2)+LARGE(C4:C7,3)","v":74.36}]
["Belgium ","Christiane Hanchir/Funnyluna van Natterekja",24.03,{"$f":"LARGE(C4:C7,1)+LARGE(C4:C7,2)+LARGE(C4:C7,3)","v":74.36}]
["Czech Republic","Vanda Gregorová/All That Brandy Gentle Mate",26.93]
["Czech Republic","Daniela Šišková/Aurora Piranha Rainy Love",24.4,{"$f":"LARGE(C8:C11,1)+LARGE(C8:C11,2)+LARGE(C8:C11,3)","v":75.400000000000006},3]
["Czech Republic","Šimona Drábková/Frederica Alary Aslar",24.07]
[null,null,0]
["Denmark","Sidsel Rychter Lauridsen/Germal Prada",26.87,{"$f":"LARGE(C12:C15,1)+LARGE(C12:C15,2)+LARGE(C12:C15,3)","v":78.87}]
["Denmark","Helle Larssen/Littlethorn Avensis",23.43,{"$f":"LARGE(C12:C15,1)+LARGE(C12:C15,2)+LARGE(C12:C15,3)","v":78.87},1]
["Denmark","Helle Larssen/Littlethorn Top Fuel",24.43,{"$f":"LARGE(C12:C15,1)+LARGE(C12:C15,2)+LARGE(C12:C15,3)","v":78.87}]
["Denmark","Anja Christiansen/Feahunden's Queeny Las",27.57,{"$f":"LARGE(C12:C15,1)+LARGE(C12:C15,2)+LARGE(C12:C15,3)","v":78.87}]
["Germany","Monika Gehrke/Nice of you to Come Bye Gigola Jan",23.4,{"$f":"LARGE(C16:C19,1)+LARGE(C16:C19,2)+LARGE(C16:C19,3)","v":67.64}]
["Germany","Lisa Joachimsky / Foxita",22.47,{"$f":"LARGE(C16:C19,1)+LARGE(C16:C19,2)+LARGE(C16:C19,3)","v":67.64},9]
["Germany","Anja Jakob/Dancing little Shadow of Fast Crazy Fly",21.77,{"$f":"LARGE(C16:C19,1)+LARGE(C16:C19,2)+LARGE(C16:C19,3)","v":67.64}]
[null,null,0,{"$f":"LARGE(C16:C19,1)+LARGE(C16:C19,2)+LARGE(C16:C19,3)","v":67.64}]
["Finland","Katja Tamminen/Cabaroo Glacier Gale",26.1]
["Finland","Susanna Ekblom/Cabaroo Dances on Ice",24.13,{"$f":"LARGE(C20:C23,1)+LARGE(C20:C23,2)+LARGE(C20:C23,3)","v":73.300000000000011},6]
["Finland","Sini Eriksson/Mutkis Onnensoturi",23.07]
[null,null,0]
["Great Britain","Kath Hardman /Stillmoor Lady in Red",25.43,{"$f":"LARGE(C24:C27,1)+LARGE(C24:C27,2)+LARGE(C24:C27,3)","v":69.33}]
["Great Britain","Jackie de Jong / Jackie's Indi",22.1,{"$f":"LARGE(C24:C27,1)+LARGE(C24:C27,2)+LARGE(C24:C27,3)","v":69.33},8]
["Great Britain","Dylan Smith/Correidhu Chase",19.13,{"$f":"LARGE(C24:C27,1)+LARGE(C24:C27,2)+LARGE(C24:C27,3)","v":69.33}]
["Great Britain","Lesley Neville/Red Hot Hamish at Chowxxstart",21.8,{"$f":"LARGE(C24:C27,1)+LARGE(C24:C27,2)+LARGE(C24:C27,3)","v":69.33}]
["Holland","Marina Delsink/Gwydion van de Hoge Laer",26.13,{"$f":"LARGE(C28:C31,1)+LARGE(C28:C31,2)+LARGE(C28:C31,3)","v":73.3}]
["Holland","Esther Niemeijer/Cookie's Fortune Cowgirl Pride",23.5,{"$f":"LARGE(C28:C31,1)+LARGE(C28:C31,2)+LARGE(C28:C31,3)","v":73.3},6]
["Holland","Brigitte van Gestel/Joyful Life van Benvenida's Joy",23.67,{"$f":"LARGE(C28:C31,1)+LARGE(C28:C31,2)+LARGE(C28:C31,3)","v":73.3}]
["Holland","Sofie Greven/Detania Herst Roos",20.47,{"$f":"LARGE(C28:C31,1)+LARGE(C28:C31,2)+LARGE(C28:C31,3)","v":73.3}]
["Russia","Valentin Kuzmin/Gently Born Lodestar",26.13,{"$f":"LARGE(C32:C35,1)+LARGE(C32:C35,2)+LARGE(C32:C35,3)","v":78.5}]
["Russia","Olga Kuzina/Almond Chokolat S Chernoy Vody",26.87,{"$f":"LARGE(C32:C35,1)+LARGE(C32:C35,2)+LARGE(C32:C35,3)","v":78.5},2]
["Russia","Galina Chogovadze/Sun Light Spot",25.27]
["Russia","Polina Ilina/Indigo",25.5]
["Sweden","Susann Wastenson/Skogvallarens Frodo",24.2,{"$f":"LARGE(C36:C39,1)+LARGE(C36:C39,2)+LARGE(C36:C39,3)","v":74.040000000000006}]
["Sweden","Sabine Astrom/Promotion Buell Cyclone",24.27,{"$f":"LARGE(C36:C39,1)+LARGE(C36:C39,2)+LARGE(C36:C39,3)","v":74.040000000000006},5]
["Sweden","Ulrika Persson/Fladdermusens Whispers",25.57,{"$f":"LARGE(C36:C39,1)+LARGE(C36:C39,2)+LARGE(C36:C39,3)","v":74.040000000000006}]
["Sweden","Carina Persson/Obetes Pop",23.13,{"$f":"LARGE(C36:C39,1)+LARGE(C36:C39,2)+LARGE(C36:C39,3)","v":74.040000000000006}]

{"sheet":"Starting order","index":4,"n_rows":47,"n_cols":5,"rows_kept":47,"cut":false,"hidden":false,"merged":[]}
[]
["Handler / dog",null,"Country","start ","Music"]
["Monika Gehrke/Nice of you to Come Bye Gigola Jan",null,"Germany",1]
["Sabine Astrom/Promotion Buell Cyclone",null,"Sweden",2]
["Marina Stilkenboom/Johnny the Little Black Devil",null,"Germany",3]
["Anne Gry Øyeflaten/Havrevingens Ambra",null,"Norway",4]
["Minna Yrjana/Like a Hurricane Branwenn Brady",null,"Finland",5]
["Anja Jakob/Dancing little Shadow of Fast Crazy Fly",null,"Germany",6]
["Olga Kuzina/Almond Chokolat S Chernoy Vody",null,"Russia",7]
["Helle Larssen/Littlethorn Avensis",null,"Denmark",8]
["Susann Wastenson/Skogvallarens Frodo",null,"Sweden",9]
["Carina Persson/Obetes Pop",null,"Sweden",10]
["Susanna Ekblom/Cabaroo Dances on Ice",null,"Finland",11]
["Lisa Joachimsky / Foxita",null,"Germany",12]
["Kath Hardman /Stillmoor Lady in Red",null,"Great Britain",13]
["Šimona Drábková/Frederica Alary Aslar",null,"Czech Republic",14]
["Christiane Hanchir/Funnyluna van Natterekja",null,"Belgium ",15]
["Jackie de Jong / Jackie's Indi",null,"Great Britain",16]
["Galina Chogovadze/Sun Light Spot",null,"Russia",17]
["Marina Delsink/Gwydion van de Hoge Laer",null,"Holland",18]
["Brigitte van Gestel/Joyful Life van Benvenida's Joy",null,"Holland",19]
["Daniela Šišková/Aurora Piranha Rainy Love",null,"Czech Republic",20]
["Anja Christiansen/Feahunden's Queeny Las",null,"Denmark",21]
["Katharina von Dach/Pyla",null,"Switzerland",22]
["Monika Olšovská / Arsinoé z Ríše Wa",null,"Slovakia",23]
["Sofie Greven/Detania Herst Roos",null,"Holland",24]
["Dylan Smith/Correidhu Chase",null,"Great Britain",25]
["Helle Larssen/Littlethorn Top Fuel",null,"Denmark",26]
["Corinne Médauer/Vulcain du Domaine de Joléa",null,"France",27]
["Christiane Gioanni/Eldorado Columbian Rush de Solemel",null,"France",28]
["Valentin Kuzmin/Gently Born Lodestar",null,"Russia",29]
["Arlette Cloes / Ginger van de Duvetorre",null,"Belgium ",30]
["Esther Niemeijer/Cookie's Fortune Cowgirl Pride",null,"Holland",31]
["Katja Tamminen/Cabaroo Glacier Gale",null,"Finland",32]
["Sini Eriksson/Mutkis Onnensoturi",null,"Finland",33]
["Sidsel Rychter Lauridsen/Germal Prada",null,"Denmark",34]
["Lesley Neville/Red Hot Hamish at Choxxstart",null,"Great Britain",35]
["Ulrika Persson/Fladdermusens Whispers",null,"Sweden",36]
["Jessica Karlgren/Camp Alpha's Izy",null,"Norway",37]
["Vanda Gregorová/All That Brandy Gentle Mate",null,"Czech Republic",38]
["Polina Ilina/Indigo",null,"Russia",39]
["Jules O'Dwyer / Van de Galeystukken Hellraiser",null,"Belgium ",40]
["Christel van Boven/Gina vom Aranka House",null,"Belgium ",41]
[null,null,null,42]
[null,null,null,43]
[null,null,null,44]
[null,null,null,45]

{"sheet":"Reserve","index":5,"n_rows":9,"n_cols":4,"rows_kept":9,"cut":false,"hidden":false,"merged":[]}
[]
["Handler / dog",null,"Country","Music"]
["Luc Daems/Tchaka vom Terlüner Schloss",null,"Belgium"]
["Annette Klink Dalgaard/Kløverbakken's Jack Sparrow",null,"Denmark"]
[]
["Tanja Leblanc/Out of the Blue of the Fancy Rotts",null,"Holland"]
["Olga Alimova/Beliy Briz",null,"Russia"]
["Linda Tolkki/Black Zone's Grizzly Bear",null,"Sweden"]
["Cathy Stilkenboom/Noppes","i","Germany"]